BEGIN:VCALENDAR
VERSION:2.0
PRODID:-//Neo Soul Cypher - ECPv6.15.20//NONSGML v1.0//EN
CALSCALE:GREGORIAN
METHOD:PUBLISH
X-WR-CALNAME:Neo Soul Cypher
X-ORIGINAL-URL:https://neosoulcypher.com
X-WR-CALDESC:Events for Neo Soul Cypher
REFRESH-INTERVAL;VALUE=DURATION:PT1H
X-Robots-Tag:noindex
X-PUBLISHED-TTL:PT1H
BEGIN:VTIMEZONE
TZID:America/Chicago
BEGIN:DAYLIGHT
TZOFFSETFROM:-0600
TZOFFSETTO:-0500
TZNAME:CDT
DTSTART:20200308T080000
END:DAYLIGHT
BEGIN:STANDARD
TZOFFSETFROM:-0500
TZOFFSETTO:-0600
TZNAME:CST
DTSTART:20201101T070000
END:STANDARD
BEGIN:DAYLIGHT
TZOFFSETFROM:-0600
TZOFFSETTO:-0500
TZNAME:CDT
DTSTART:20210314T080000
END:DAYLIGHT
BEGIN:STANDARD
TZOFFSETFROM:-0500
TZOFFSETTO:-0600
TZNAME:CST
DTSTART:20211107T070000
END:STANDARD
BEGIN:DAYLIGHT
TZOFFSETFROM:-0600
TZOFFSETTO:-0500
TZNAME:CDT
DTSTART:20220313T080000
END:DAYLIGHT
BEGIN:STANDARD
TZOFFSETFROM:-0500
TZOFFSETTO:-0600
TZNAME:CST
DTSTART:20221106T070000
END:STANDARD
END:VTIMEZONE
BEGIN:VEVENT
DTSTART;VALUE=DATE:20210324
DTEND;VALUE=DATE:20210325
DTSTAMP:20260419T152711
CREATED:20210324T103554Z
LAST-MODIFIED:20210324T103554Z
UID:11675-1616544000-1616630399@neosoulcypher.com
SUMMARY:Today's Soul Birthdays - March 24
DESCRIPTION:Billy Stewart – American rhythm and blues singer and pianist who was popular during the 1960s. \n \nDon Convay – American R&B\, rock and roll and soul singer and songwriter most active from the 1950s to the 1970s. His most successful recordings include “Mercy\, Mercy”\, “See-Saw”\, and “It’s Better to Have”. \n \n 
URL:https://neosoulcypher.com/event/todays-soul-birthdays-march-24/
END:VEVENT
BEGIN:VEVENT
DTSTART;VALUE=DATE:20210324
DTEND;VALUE=DATE:20210325
DTSTAMP:20260419T152711
CREATED:20210322T162301Z
LAST-MODIFIED:20210322T162301Z
UID:11614-1616544000-1616630399@neosoulcypher.com
SUMMARY:Neo Soul Cypher Show Guest - Yoji
DESCRIPTION:Wednesday\, March 24th Quash (Q-Man) and Regina come together to interview soulful pop singer and pianist YOJI \nTake a listen to YOJI at: \nhttps://open.spotify.com/track/2T4oiQe6UAWayRYKqPYV7I?si=Ut3aK_MJSSmxPPc-1KfpTQ \nTHE NEO SOUL CYPHER SHOW – Relaunched and Reimagined! \n9pm ET\, 8pm CT\, 6pm PT \nONLINE: https://neosoulcypher.com/live-streams-and-broadcasts/ \nGet the latest in Neo Soul and Classic Hip-Hop Music\, Culture\, Lifestyle and Community
URL:https://neosoulcypher.com/event/neo-soul-cypher-show-guest-yoji/
END:VEVENT
BEGIN:VEVENT
DTSTART;VALUE=DATE:20210323
DTEND;VALUE=DATE:20210324
DTSTAMP:20260419T152711
CREATED:20210323T115948Z
LAST-MODIFIED:20210323T115948Z
UID:11627-1616457600-1616543999@neosoulcypher.com
SUMMARY:Today's Soul Birthdays - March 23
DESCRIPTION:Chaka Khan – American musician\, singer and songwriter. Her career has spanned nearly five decades\, beginning in the 1970s as the lead vocalist of the funk band Rufus.
URL:https://neosoulcypher.com/event/todays-soul-birthdays-march-23/
END:VEVENT
BEGIN:VEVENT
DTSTART;VALUE=DATE:20210322
DTEND;VALUE=DATE:20210323
DTSTAMP:20260419T152711
CREATED:20210322T111429Z
LAST-MODIFIED:20210322T111429Z
UID:11607-1616371200-1616457599@neosoulcypher.com
SUMMARY:Today's Soul Birthdays - March 22
DESCRIPTION:Beverely Knight – English recording artist and musical theatre actress who released her first album\, The B-Funk\, in 1995. \n \nMelvin Sparks – American soul jazz\, hard bop and jazz blues guitarist. \n \nGeorge Benson – American guitarist\, singer\, and songwriter. \n \nTyrone Brunson – American singer and musician\, who played the bass guitar. \n \nStephanie Mills – American singer\, songwriter and actress.
URL:https://neosoulcypher.com/event/todays-soul-birthdays-march-22/
END:VEVENT
BEGIN:VEVENT
DTSTART;VALUE=DATE:20210319
DTEND;VALUE=DATE:20210320
DTSTAMP:20260419T152711
CREATED:20210319T143322Z
LAST-MODIFIED:20210319T143445Z
UID:11599-1616112000-1616198399@neosoulcypher.com
SUMMARY:Today's Soul Birthdays - March 19
DESCRIPTION:Clarence Frogman Henry – American rhythm and blues singer and pianist\, best known for his hits “Ain’t Got No Home” and ” But I Do”. \n \nClarence Paul – American songwriter\, record producer and singer who was best known for his career with Detroit’s Motown Records. \n \nWalter Jackson – American soul ballad singer who had a string of hits on the US R&B chart between the mid-1960s and early 1980s. \n \nRuth Pointer – American singer–songwriter who is best known as the eldest member of the American family vocal group The Pointer Sisters.
URL:https://neosoulcypher.com/event/todays-soul-birthdays-march-19/
END:VEVENT
BEGIN:VEVENT
DTSTART;VALUE=DATE:20210318
DTEND;VALUE=DATE:20210319
DTSTAMP:20260419T152711
CREATED:20210318T130854Z
LAST-MODIFIED:20210318T130854Z
UID:11594-1616025600-1616111999@neosoulcypher.com
SUMMARY:Today's Soul Birthdays - March 18
DESCRIPTION:Wilson Pickett – American singer and songwriter. A major figure in the development of American soul music\, Pickett recorded over 50 songs which made the US R&B charts\, many of which crossed over to the Billboard Hot 100. \n \nVanessa Williams – American singer\, actress\, and fashion designer. She initially gained recognition as the first African-American woman to receive the Miss America title when she was crowned Miss America 1984 in 1983. \n \nCourtney Pine – British jazz musician\, who was the principal founder in the 1980s of the black British band the Jazz Warriors. Although known primarily for his saxophone playing\, Pine is a multi-instrumentalist\, also playing the flute\, clarinet\, bass clarinet and keyboards.
URL:https://neosoulcypher.com/event/todays-soul-birthdays-march-18/
END:VEVENT
BEGIN:VEVENT
DTSTART;VALUE=DATE:20210317
DTEND;VALUE=DATE:20210318
DTSTAMP:20260419T152711
CREATED:20210316T112749Z
LAST-MODIFIED:20210316T112749Z
UID:11587-1615939200-1616025599@neosoulcypher.com
SUMMARY:Today's Soul Birthdays - March 17
DESCRIPTION:Patrick Adams – American music arranger and record producer. He has earned 32 gold and platinum records. \n \nLorraine Ellison – American soul singer known for her recording of the song “Stay with Me” in 1966. \n \nNat King Cole – American singer and jazz pianist. He recorded over 100 songs that became hits on the pop charts. His trio was the model for small jazz ensembles that followed. Cole also acted in films and on television and performed on Broadway.
URL:https://neosoulcypher.com/event/todays-soul-birthdays-march-17/
END:VEVENT
BEGIN:VEVENT
DTSTART;VALUE=DATE:20210317
DTEND;VALUE=DATE:20210318
DTSTAMP:20260419T152711
CREATED:20210314T192816Z
LAST-MODIFIED:20210314T192816Z
UID:11573-1615939200-1616025599@neosoulcypher.com
SUMMARY:Neo Soul Cypher Show Guest - Jeff Bradshaw!
DESCRIPTION:‼️Wednesday\, March 17th Quash (Q-Man) and Regina come together to interview soul-jazz musician JEFF BRADSHAW‼️ \nTake a listen to JEFF BRADSHAW at: \nhttps://open.spotify.com/album/3lANcmT4YvrndRaTYARWiC?si=RjhQYH4mSX6tHbqmUaxy9w \nTHE NEO SOUL CYPHER SHOW – Relaunched and Reimagined! \n9pm ET\, 8pm CT\, 6pm PT \nONLINE: https://neosoulcypher.com/live-streams-and-broadcasts/ \nGet the latest in Neo Soul and Classic Hip-Hop Music\, Culture\, Lifestyle and Community
URL:https://neosoulcypher.com/event/neo-soul-cypher-show-guest-jeff-bradshaw/
END:VEVENT
BEGIN:VEVENT
DTSTART;VALUE=DATE:20210316
DTEND;VALUE=DATE:20210317
DTSTAMP:20260419T152711
CREATED:20210314T193621Z
LAST-MODIFIED:20210314T193621Z
UID:11582-1615852800-1615939199@neosoulcypher.com
SUMMARY:Today's Soul Birthdays - March 16
DESCRIPTION:Tommy Flanagan – American jazz pianist and composer. He grew up in Detroit\, initially influenced by such pianists as Art Tatum\, Teddy Wilson\, and Nat King Cole\, and then by the newer bebop musicians. \n \n 
URL:https://neosoulcypher.com/event/todays-soul-birthdays-march-16/
END:VEVENT
BEGIN:VEVENT
DTSTART;VALUE=DATE:20210315
DTEND;VALUE=DATE:20210316
DTSTAMP:20260419T152711
CREATED:20210314T193447Z
LAST-MODIFIED:20210314T193447Z
UID:11575-1615766400-1615852799@neosoulcypher.com
SUMMARY:Today's Soul Birthdays - March 15
DESCRIPTION:Jean Carne – American jazz and pop singer. In mid career\, she added a final e to her name. Carn is a vocalist credited with a five octave vocal range. She began her recording career with her then-husband\, pianist Doug Carn\, for Black Jazz Records. \n \nRalph McDonald – Trinbagonian-American percussionist\, songwriter\, musical arranger\, record producer\, steelpan virtuoso and philanthropist. \n \nRockwell – American former musician and singer-songwriter who was signed to the Motown label. He is best known for his 1984 hit single “Somebody’s Watching Me”. \n \nSly Stone – American musician\, songwriter\, and record producer who is most famous for his role as frontman for Sly and the Family Stone.
URL:https://neosoulcypher.com/event/todays-soul-birthdays-march-15/
END:VEVENT
BEGIN:VEVENT
DTSTART;VALUE=DATE:20210312
DTEND;VALUE=DATE:20210313
DTSTAMP:20260419T152711
CREATED:20210312T171544Z
LAST-MODIFIED:20210312T171544Z
UID:11564-1615507200-1615593599@neosoulcypher.com
SUMMARY:Today's Soul Birthdays - March 12
DESCRIPTION:Ruby Andrews – American soul singer. Her best known songs include “Casonova”\, “You Made A Believer”\, and “Everybody Saw You”. \n \nAl Jarreau – American singer and musician. His 1981 album Breakin’ Away spent two years on the Billboard 200 and is considered one of the finest examples of the Los Angeles pop and R&B sound. The album won Jarreau the 1982 Grammy for Best Male Pop Vocal Performance. \n \nMarlon Jackson – American entertainer\, singer\, and dancer. Jackson was a member of the Jackson 5\, and is the sixth child of the Jackson family. \n \n 
URL:https://neosoulcypher.com/event/todays-soul-birthdays-march-12/
END:VEVENT
BEGIN:VEVENT
DTSTART;VALUE=DATE:20210311
DTEND;VALUE=DATE:20210312
DTSTAMP:20260419T152711
CREATED:20210309T145258Z
LAST-MODIFIED:20210309T145258Z
UID:11556-1615420800-1615507199@neosoulcypher.com
SUMMARY:Today's Soul Birthdays - March 11
DESCRIPTION:Cheryl Lynn – American singer. She is best known for her songs during the late 1970s through the mid-1980s\, including the 1978 R&B/disco song “Got to Be Real”. \n \nBobby McFerrin – American folk-jazz vocalist. \nSinger Bobby McFerrin arrives at the 7th annual Roots Jam Session at the Music Box Theatre on February 12\, 2011 in Hollywood\, California. (Photo by Chelsea Lauren/WireImage)
URL:https://neosoulcypher.com/event/todays-soul-birthdays-march-11/
END:VEVENT
BEGIN:VEVENT
DTSTART;VALUE=DATE:20210310
DTEND;VALUE=DATE:20210311
DTSTAMP:20260419T152711
CREATED:20210309T144848Z
LAST-MODIFIED:20210309T144848Z
UID:11553-1615334400-1615420799@neosoulcypher.com
SUMMARY:Today's Soul Birthdays - March 10
DESCRIPTION:Bunny DeBarge – American soul singer–songwriter\, best known as the lone female sibling of the Motown family group DeBarge.
URL:https://neosoulcypher.com/event/todays-soul-birthdays-march-10/
END:VEVENT
BEGIN:VEVENT
DTSTART;TZID=America/Chicago:20210309T080000
DTEND;TZID=America/Chicago:20210309T170000
DTSTAMP:20260419T152711
CREATED:20210307T194653Z
LAST-MODIFIED:20210307T194653Z
UID:11548-1615276800-1615309200@neosoulcypher.com
SUMMARY:Today's Soul Birthdays - March 9
DESCRIPTION:Jeffery Osborne – American Grammy–nominated singer–songwriter\, musician and lyricist. Osborne is the former drummer and lead singer of the American R&B/Soul group L.T.D.; with whom he began his musical career in 1970. \n \nLloyd Price – American R&B vocalist\, known as “Mr. Personality”\, after his 1959 million-selling hit\, “Personality”. His first recording\, “Lawdy Miss Clawdy”\, was a hit for Specialty Records in 1952. \n \nOrnette Coleman – American jazz saxophonist\, violinist\, trumpeter\, and composer known as a principal founder of the free jazz genre\, a term derived from his 1960 album Free Jazz: A Collective Improvisation. \n \n  \n 
URL:https://neosoulcypher.com/event/todays-soul-birthdays-march-9/
END:VEVENT
BEGIN:VEVENT
DTSTART;VALUE=DATE:20210308
DTEND;VALUE=DATE:20210309
DTSTAMP:20260419T152711
CREATED:20210305T201656Z
LAST-MODIFIED:20210305T201656Z
UID:11535-1615161600-1615247999@neosoulcypher.com
SUMMARY:Today's Soul Birthdays - March 8
DESCRIPTION:Gabor Szabo –  Hungarian American guitarist whose style incorporated jazz\, pop\, rock\, and Hungarian music.
URL:https://neosoulcypher.com/event/todays-soul-birthdays-march-8/
END:VEVENT
BEGIN:VEVENT
DTSTART;VALUE=DATE:20210307
DTEND;VALUE=DATE:20210308
DTSTAMP:20260419T152711
CREATED:20210305T201457Z
LAST-MODIFIED:20210305T201457Z
UID:11529-1615075200-1615161599@neosoulcypher.com
SUMMARY:Today's Soul Birthdays - March 7
DESCRIPTION:Kae Williams Jr. – Musical artist. \n \nHamilton Bohannon – American percussionist\, band leader\, songwriter\, arranger\, and record producer\, who was one of the leading figures in 1970s disco music. \n \nLeon Sylvers III – American singer\, songwriter\, disc-jockey\, record producer and multi-instrumentalist. He was a member of the family group The Sylvers and became one of the most successful producers in black music in the late 1970s to the mid-1980s through his association with Dick Griffey’s SOLAR Records. \n \n 
URL:https://neosoulcypher.com/event/todays-soul-birthdays-march-7/
END:VEVENT
BEGIN:VEVENT
DTSTART;VALUE=DATE:20210306
DTEND;VALUE=DATE:20210307
DTSTAMP:20260419T152711
CREATED:20210305T201026Z
LAST-MODIFIED:20210305T201026Z
UID:11524-1614988800-1615075199@neosoulcypher.com
SUMMARY:Today's Soul Birthdays - March 6
DESCRIPTION:Mary Wilson – American singer. She gained worldwide recognition as a founding member of The Supremes\, the most successful Motown act of the 1960s and the best-charting female group in U.S. chart history\, as well as one of the best-selling girl groups of all-time. \n \nSylvia Robinson – American singer\, record producer\, and record label executive. Robinson had two R&B chart toppers: as half of Mickey & Sylvia with “Love Is Strange” in 1957 and her solo record “Pillow Talk” in 1973. She later became known for her work as founder and CEO of the hip hop label Sugar Hill Records. \n \nHerman Leonard – American photographer known for his unique images of jazz icons. \n \n 
URL:https://neosoulcypher.com/event/todays-soul-birthdays-march-6/
END:VEVENT
BEGIN:VEVENT
DTSTART;VALUE=DATE:20210305
DTEND;VALUE=DATE:20210306
DTSTAMP:20260419T152711
CREATED:20210305T153947Z
LAST-MODIFIED:20210305T153947Z
UID:11521-1614902400-1614988799@neosoulcypher.com
SUMMARY:Today's Soul Birthdays - March 5
DESCRIPTION:Teena Marie –  American singer-songwriter\, musician\, composer\, arranger\, and producer. \n \n  \n 
URL:https://neosoulcypher.com/event/todays-soul-birthdays-march-5/
END:VEVENT
BEGIN:VEVENT
DTSTART;TZID=America/Chicago:20210304T190000
DTEND;TZID=America/Chicago:20210304T210000
DTSTAMP:20260419T152711
CREATED:20210303T185341Z
LAST-MODIFIED:20210303T185341Z
UID:11518-1614884400-1614891600@neosoulcypher.com
SUMMARY:Alpha Talk Presents: Living While Black During A Pandemic
DESCRIPTION:
URL:https://neosoulcypher.com/event/alpha-talk-presents-living-while-black-during-a-pandemic/
END:VEVENT
BEGIN:VEVENT
DTSTART;VALUE=DATE:20210304
DTEND;VALUE=DATE:20210305
DTSTAMP:20260419T152711
CREATED:20210303T115313Z
LAST-MODIFIED:20210303T115313Z
UID:11514-1614816000-1614902399@neosoulcypher.com
SUMMARY:Today's Soul Birthdays - March 4
DESCRIPTION:Bobby Womack – American singer\, songwriter\, musician\, and record producer. \n \nMiriam Makeba – South African singer\, songwriter\, actress\, United Nations goodwill ambassador\, and civil rights activist. Associated with musical genres including Afropop\, jazz\, and world music\, she was an advocate against apartheid and white-minority government in South Africa. \n \n 
URL:https://neosoulcypher.com/event/todays-soul-birthdays-march-4/
END:VEVENT
BEGIN:VEVENT
DTSTART;TZID=America/Chicago:20210303T080000
DTEND;TZID=America/Chicago:20210303T200000
DTSTAMP:20260419T152711
CREATED:20210301T165545Z
LAST-MODIFIED:20210301T165545Z
UID:11504-1614758400-1614801600@neosoulcypher.com
SUMMARY:Neo Soul Cypher Show Guest - BD3!
DESCRIPTION:Wednesday\, March 3rd Quash (Q-Man) and Regina come together to interview hip hop lyricist BD3! \nTake a listen to BD3 at: \nhttps://open.spotify.com/album/2ZrO8hzWwsiuF4rmSBDX1Y?si=KPM53uiIRbi7Ms7nedvNHQ \nTHE NEO SOUL CYPHER SHOW – Relaunched and Reimagined! \n9pm ET\, 8pm CT\, 6pm PT \nONLINE: https://neosoulcypher.com/live-streams-and-broadcasts/ \nGet the latest in Neo Soul and Classic Hip-Hop Music\, Culture\, Lifestyle and Community
URL:https://neosoulcypher.com/event/neo-soul-cypher-show-guest-bd3/
END:VEVENT
BEGIN:VEVENT
DTSTART;VALUE=DATE:20210303
DTEND;VALUE=DATE:20210304
DTSTAMP:20260419T152711
CREATED:20210302T134425Z
LAST-MODIFIED:20210302T134425Z
UID:11511-1614729600-1614815999@neosoulcypher.com
SUMMARY:Today's Soul Birthdays - March 3
DESCRIPTION:Junior Parker – American Memphis blues singer and musician. He is best remembered for his voice which has been described as “honeyed” and “velvet-smooth”. One music journalist noted\, “For years Junior Parker deserted downhome harmonica blues for uptown blues-soul music”. \n \n 
URL:https://neosoulcypher.com/event/todays-soul-birthdays-march-3/
END:VEVENT
BEGIN:VEVENT
DTSTART;VALUE=DATE:20210302
DTEND;VALUE=DATE:20210303
DTSTAMP:20260419T152711
CREATED:20210302T134237Z
LAST-MODIFIED:20210302T134237Z
UID:11506-1614643200-1614729599@neosoulcypher.com
SUMMARY:Today's Soul Birthdays - March 2
DESCRIPTION:Lawrence Payton – American tenor\, songwriter\, vocal arranger\, musician\, and record producer for the popular Motown quartet\, the Four Tops. \n \nLarry Carlton – American guitarist who built his career as a studio musician in the 1970s and ’80s for acts such as Steely Dan and Joni Mitchell. \n \nBobby Eli – American musician\, arranger\, composer and record producer from Philadelphia. He is a founding member and lead guitarist of Philadelphia studio band MFSB.
URL:https://neosoulcypher.com/event/todays-soul-birthdays-march-2/
END:VEVENT
BEGIN:VEVENT
DTSTART;VALUE=DATE:20210301
DTEND;VALUE=DATE:20210302
DTSTAMP:20260419T152711
CREATED:20210228T233418Z
LAST-MODIFIED:20210228T233418Z
UID:11496-1614556800-1614643199@neosoulcypher.com
SUMMARY:Today's Soul Birthdays - March 1
DESCRIPTION:Oliver Sain – American saxophonist\, songwriter\, bandleader\, drummer and record producer\, who was an important figure in the development of rhythm and blues music\, notably in St Louis\, Missouri.
URL:https://neosoulcypher.com/event/todays-soul-birthdays-march-1/
END:VEVENT
BEGIN:VEVENT
DTSTART;VALUE=DATE:20210226
DTEND;VALUE=DATE:20210227
DTSTAMP:20260419T152711
CREATED:20210224T122547Z
LAST-MODIFIED:20210224T122547Z
UID:11490-1614297600-1614383999@neosoulcypher.com
SUMMARY:Today's Soul Birthdays - February 26
DESCRIPTION:Erykah Badu – American singer-songwriter\, record producer and actress. Influenced by R&B\, 1970s soul\, and 1980s hip hop\, Badu became associated with the neo soul subgenre in the 1990s and 2000s along with artists like D’Angelo. She has been called the Queen of Neo soul. \n \nFats Domino – American pianist and singer-songwriter. One of the pioneers of rock and roll music\, Domino sold more than 65 million records. Between 1955 and 1960\, he had eleven Top 10 US pop hits.
URL:https://neosoulcypher.com/event/todays-soul-birthdays-february-26/
END:VEVENT
BEGIN:VEVENT
DTSTART;VALUE=DATE:20210225
DTEND;VALUE=DATE:20210226
DTSTAMP:20260419T152711
CREATED:20210224T122218Z
LAST-MODIFIED:20210224T122231Z
UID:11486-1614211200-1614297599@neosoulcypher.com
SUMMARY:Today's Soul Birthdays - February 25
DESCRIPTION:Foster Sylvers – American singer\, songwriter\, record producer\, and multi-instrumentalist. He is best known for being a member of the family act The Sylvers and his hit single “Misdemeanor”.
URL:https://neosoulcypher.com/event/todays-soul-birthdays-february-25/
END:VEVENT
BEGIN:VEVENT
DTSTART;TZID=America/Chicago:20210224T200000
DTEND;TZID=America/Chicago:20210224T210000
DTSTAMP:20260419T152711
CREATED:20210219T191611Z
LAST-MODIFIED:20210219T191611Z
UID:11458-1614196800-1614200400@neosoulcypher.com
SUMMARY:Neo Soul Cypher Show Guest - Marcus Machado
DESCRIPTION:Wednesday\, February 24th Quash (Q-Man) and Regina come together to interview talented musician MARCUS MACHADO! \nTake a listen to Marcus Machado at: \nhttp://www.officialmarcusmachado.com/ \n  \nTHE NEO SOUL CYPHER SHOW – Relaunched and Reimagined! \n9pm ET\, 8pm CT\, 6pm PT \nONLINE: https://neosoulcypher.com/live-streams-and-broadcasts/ \nGet the latest in Neo Soul and Classic Hip-Hop Music\, Culture\, Lifestyle and Community
URL:https://neosoulcypher.com/event/neo-soul-cypher-show-guest-marcus-machado/
END:VEVENT
BEGIN:VEVENT
DTSTART;VALUE=DATE:20210223
DTEND;VALUE=DATE:20210224
DTSTAMP:20260419T152711
CREATED:20210220T004604Z
LAST-MODIFIED:20210220T004604Z
UID:11460-1614038400-1614124799@neosoulcypher.com
SUMMARY:Today's Soul Birthdays - February 23
DESCRIPTION:Hall Overton – American composer\, jazz pianist and music teacher.
URL:https://neosoulcypher.com/event/todays-soul-birthdays-february-23/
END:VEVENT
BEGIN:VEVENT
DTSTART;TZID=America/Chicago:20210222T080000
DTEND;TZID=America/Chicago:20210222T170000
DTSTAMP:20260419T152711
CREATED:20210218T003552Z
LAST-MODIFIED:20210218T003618Z
UID:11446-1613980800-1614013200@neosoulcypher.com
SUMMARY:Today's Soul Birthdays - February 22
DESCRIPTION:Ernie K. Doe – American rhythm-and-blues singer. \n \nHarvey Mason – American jazz drummer\, record producer\, and member of the band Fourplay. \n \nRobert “Big Sonny” Edwards – American singer from R&B vocal group\, The Intruders. \n \nDiane Charlemagne – British jazz\, soul\, funk and electronic dance music singer and songwriter. \n \nPhillip Ballou – American disco singer. \n \nBuddy Tate – American jazz saxophonist and clarinetist. \n \n  \n 
URL:https://neosoulcypher.com/event/todays-soul-birthdays-february-21/
END:VEVENT
BEGIN:VEVENT
DTSTART;VALUE=DATE:20210221
DTEND;VALUE=DATE:20210222
DTSTAMP:20260419T152711
CREATED:20210217T235328Z
LAST-MODIFIED:20210217T235328Z
UID:11441-1613865600-1613951999@neosoulcypher.com
SUMMARY:Today's Soul Birthdays - February 21
DESCRIPTION:Nina Simone – American singer\, songwriter\, musician\, arranger\, and civil rights activist. Her music spanned a broad range of musical styles including classical\, jazz\, blues\, folk\, R&B\, gospel\, and pop. \n \nJose Roberto Bertrami – Producer\, chief writer\, and keyboardist for Azymuth\, has a great deal to do with the Brazilian trio’s unique sound. \n \nHerbie Goins – American rhythm & blues singer. \n \n 
URL:https://neosoulcypher.com/event/tod/
END:VEVENT
END:VCALENDAR