BEGIN:VCALENDAR
VERSION:2.0
PRODID:-//Neo Soul Cypher - ECPv6.15.20//NONSGML v1.0//EN
CALSCALE:GREGORIAN
METHOD:PUBLISH
X-WR-CALNAME:Neo Soul Cypher
X-ORIGINAL-URL:https://neosoulcypher.com
X-WR-CALDESC:Events for Neo Soul Cypher
REFRESH-INTERVAL;VALUE=DURATION:PT1H
X-Robots-Tag:noindex
X-PUBLISHED-TTL:PT1H
BEGIN:VTIMEZONE
TZID:America/Chicago
BEGIN:DAYLIGHT
TZOFFSETFROM:-0600
TZOFFSETTO:-0500
TZNAME:CDT
DTSTART:20200308T080000
END:DAYLIGHT
BEGIN:STANDARD
TZOFFSETFROM:-0500
TZOFFSETTO:-0600
TZNAME:CST
DTSTART:20201101T070000
END:STANDARD
BEGIN:DAYLIGHT
TZOFFSETFROM:-0600
TZOFFSETTO:-0500
TZNAME:CDT
DTSTART:20210314T080000
END:DAYLIGHT
BEGIN:STANDARD
TZOFFSETFROM:-0500
TZOFFSETTO:-0600
TZNAME:CST
DTSTART:20211107T070000
END:STANDARD
BEGIN:DAYLIGHT
TZOFFSETFROM:-0600
TZOFFSETTO:-0500
TZNAME:CDT
DTSTART:20220313T080000
END:DAYLIGHT
BEGIN:STANDARD
TZOFFSETFROM:-0500
TZOFFSETTO:-0600
TZNAME:CST
DTSTART:20221106T070000
END:STANDARD
END:VTIMEZONE
BEGIN:VEVENT
DTSTART;TZID=America/Chicago:20210303T080000
DTEND;TZID=America/Chicago:20210303T200000
DTSTAMP:20260419T233448
CREATED:20210301T165545Z
LAST-MODIFIED:20210301T165545Z
UID:11504-1614758400-1614801600@neosoulcypher.com
SUMMARY:Neo Soul Cypher Show Guest - BD3!
DESCRIPTION:Wednesday\, March 3rd Quash (Q-Man) and Regina come together to interview hip hop lyricist BD3! \nTake a listen to BD3 at: \nhttps://open.spotify.com/album/2ZrO8hzWwsiuF4rmSBDX1Y?si=KPM53uiIRbi7Ms7nedvNHQ \nTHE NEO SOUL CYPHER SHOW – Relaunched and Reimagined! \n9pm ET\, 8pm CT\, 6pm PT \nONLINE: https://neosoulcypher.com/live-streams-and-broadcasts/ \nGet the latest in Neo Soul and Classic Hip-Hop Music\, Culture\, Lifestyle and Community
URL:https://neosoulcypher.com/event/neo-soul-cypher-show-guest-bd3/
END:VEVENT
BEGIN:VEVENT
DTSTART;VALUE=DATE:20210303
DTEND;VALUE=DATE:20210304
DTSTAMP:20260419T233448
CREATED:20210302T134425Z
LAST-MODIFIED:20210302T134425Z
UID:11511-1614729600-1614815999@neosoulcypher.com
SUMMARY:Today's Soul Birthdays - March 3
DESCRIPTION:Junior Parker – American Memphis blues singer and musician. He is best remembered for his voice which has been described as “honeyed” and “velvet-smooth”. One music journalist noted\, “For years Junior Parker deserted downhome harmonica blues for uptown blues-soul music”. \n \n 
URL:https://neosoulcypher.com/event/todays-soul-birthdays-march-3/
END:VEVENT
BEGIN:VEVENT
DTSTART;VALUE=DATE:20210302
DTEND;VALUE=DATE:20210303
DTSTAMP:20260419T233448
CREATED:20210302T134237Z
LAST-MODIFIED:20210302T134237Z
UID:11506-1614643200-1614729599@neosoulcypher.com
SUMMARY:Today's Soul Birthdays - March 2
DESCRIPTION:Lawrence Payton – American tenor\, songwriter\, vocal arranger\, musician\, and record producer for the popular Motown quartet\, the Four Tops. \n \nLarry Carlton – American guitarist who built his career as a studio musician in the 1970s and ’80s for acts such as Steely Dan and Joni Mitchell. \n \nBobby Eli – American musician\, arranger\, composer and record producer from Philadelphia. He is a founding member and lead guitarist of Philadelphia studio band MFSB.
URL:https://neosoulcypher.com/event/todays-soul-birthdays-march-2/
END:VEVENT
BEGIN:VEVENT
DTSTART;VALUE=DATE:20210301
DTEND;VALUE=DATE:20210302
DTSTAMP:20260419T233448
CREATED:20210228T233418Z
LAST-MODIFIED:20210228T233418Z
UID:11496-1614556800-1614643199@neosoulcypher.com
SUMMARY:Today's Soul Birthdays - March 1
DESCRIPTION:Oliver Sain – American saxophonist\, songwriter\, bandleader\, drummer and record producer\, who was an important figure in the development of rhythm and blues music\, notably in St Louis\, Missouri.
URL:https://neosoulcypher.com/event/todays-soul-birthdays-march-1/
END:VEVENT
BEGIN:VEVENT
DTSTART;VALUE=DATE:20210226
DTEND;VALUE=DATE:20210227
DTSTAMP:20260419T233448
CREATED:20210224T122547Z
LAST-MODIFIED:20210224T122547Z
UID:11490-1614297600-1614383999@neosoulcypher.com
SUMMARY:Today's Soul Birthdays - February 26
DESCRIPTION:Erykah Badu – American singer-songwriter\, record producer and actress. Influenced by R&B\, 1970s soul\, and 1980s hip hop\, Badu became associated with the neo soul subgenre in the 1990s and 2000s along with artists like D’Angelo. She has been called the Queen of Neo soul. \n \nFats Domino – American pianist and singer-songwriter. One of the pioneers of rock and roll music\, Domino sold more than 65 million records. Between 1955 and 1960\, he had eleven Top 10 US pop hits.
URL:https://neosoulcypher.com/event/todays-soul-birthdays-february-26/
END:VEVENT
BEGIN:VEVENT
DTSTART;VALUE=DATE:20210225
DTEND;VALUE=DATE:20210226
DTSTAMP:20260419T233448
CREATED:20210224T122218Z
LAST-MODIFIED:20210224T122231Z
UID:11486-1614211200-1614297599@neosoulcypher.com
SUMMARY:Today's Soul Birthdays - February 25
DESCRIPTION:Foster Sylvers – American singer\, songwriter\, record producer\, and multi-instrumentalist. He is best known for being a member of the family act The Sylvers and his hit single “Misdemeanor”.
URL:https://neosoulcypher.com/event/todays-soul-birthdays-february-25/
END:VEVENT
BEGIN:VEVENT
DTSTART;TZID=America/Chicago:20210224T200000
DTEND;TZID=America/Chicago:20210224T210000
DTSTAMP:20260419T233448
CREATED:20210219T191611Z
LAST-MODIFIED:20210219T191611Z
UID:11458-1614196800-1614200400@neosoulcypher.com
SUMMARY:Neo Soul Cypher Show Guest - Marcus Machado
DESCRIPTION:Wednesday\, February 24th Quash (Q-Man) and Regina come together to interview talented musician MARCUS MACHADO! \nTake a listen to Marcus Machado at: \nhttp://www.officialmarcusmachado.com/ \n  \nTHE NEO SOUL CYPHER SHOW – Relaunched and Reimagined! \n9pm ET\, 8pm CT\, 6pm PT \nONLINE: https://neosoulcypher.com/live-streams-and-broadcasts/ \nGet the latest in Neo Soul and Classic Hip-Hop Music\, Culture\, Lifestyle and Community
URL:https://neosoulcypher.com/event/neo-soul-cypher-show-guest-marcus-machado/
END:VEVENT
BEGIN:VEVENT
DTSTART;VALUE=DATE:20210223
DTEND;VALUE=DATE:20210224
DTSTAMP:20260419T233448
CREATED:20210220T004604Z
LAST-MODIFIED:20210220T004604Z
UID:11460-1614038400-1614124799@neosoulcypher.com
SUMMARY:Today's Soul Birthdays - February 23
DESCRIPTION:Hall Overton – American composer\, jazz pianist and music teacher.
URL:https://neosoulcypher.com/event/todays-soul-birthdays-february-23/
END:VEVENT
BEGIN:VEVENT
DTSTART;TZID=America/Chicago:20210222T080000
DTEND;TZID=America/Chicago:20210222T170000
DTSTAMP:20260419T233448
CREATED:20210218T003552Z
LAST-MODIFIED:20210218T003618Z
UID:11446-1613980800-1614013200@neosoulcypher.com
SUMMARY:Today's Soul Birthdays - February 22
DESCRIPTION:Ernie K. Doe – American rhythm-and-blues singer. \n \nHarvey Mason – American jazz drummer\, record producer\, and member of the band Fourplay. \n \nRobert “Big Sonny” Edwards – American singer from R&B vocal group\, The Intruders. \n \nDiane Charlemagne – British jazz\, soul\, funk and electronic dance music singer and songwriter. \n \nPhillip Ballou – American disco singer. \n \nBuddy Tate – American jazz saxophonist and clarinetist. \n \n  \n 
URL:https://neosoulcypher.com/event/todays-soul-birthdays-february-21/
END:VEVENT
BEGIN:VEVENT
DTSTART;VALUE=DATE:20210221
DTEND;VALUE=DATE:20210222
DTSTAMP:20260419T233448
CREATED:20210217T235328Z
LAST-MODIFIED:20210217T235328Z
UID:11441-1613865600-1613951999@neosoulcypher.com
SUMMARY:Today's Soul Birthdays - February 21
DESCRIPTION:Nina Simone – American singer\, songwriter\, musician\, arranger\, and civil rights activist. Her music spanned a broad range of musical styles including classical\, jazz\, blues\, folk\, R&B\, gospel\, and pop. \n \nJose Roberto Bertrami – Producer\, chief writer\, and keyboardist for Azymuth\, has a great deal to do with the Brazilian trio’s unique sound. \n \nHerbie Goins – American rhythm & blues singer. \n \n 
URL:https://neosoulcypher.com/event/tod/
END:VEVENT
BEGIN:VEVENT
DTSTART;VALUE=DATE:20210220
DTEND;VALUE=DATE:20210221
DTSTAMP:20260419T233448
CREATED:20210217T234841Z
LAST-MODIFIED:20210217T234841Z
UID:11437-1613779200-1613865599@neosoulcypher.com
SUMMARY:Today's Soul Birthdays - February 20
DESCRIPTION:Nancy Wilson –  American singer and actress whose career spanned over five decades\, from the mid-1950s until her retirement in the early 2010s. She was especially notable for her single ” How Glad I Am” and her version of the standard “Guess Who I Saw Today”. \n \nWalker Becker – American musician\, songwriter\, and record producer. He was best known as the co-founder\, guitarist\, bassist\, and co-songwriter of the jazz rock band Steely Dan \n \n 
URL:https://neosoulcypher.com/event/todays-soul-birthdays-february-20/
END:VEVENT
BEGIN:VEVENT
DTSTART;VALUE=DATE:20210219
DTEND;VALUE=DATE:20210220
DTSTAMP:20260419T233448
CREATED:20210217T152151Z
LAST-MODIFIED:20210217T152151Z
UID:11433-1613692800-1613779199@neosoulcypher.com
SUMMARY:Today's Soul Birthdays - February 19
DESCRIPTION:Smokey Robinson – American singer\, songwriter\, record producer\, and former record executive. Robinson was the founder and front man of the Motown vocal group the Miracles\, for which he was also chief songwriter and producer. \n \nBobby Rogers – American musician and tenor singer\, best known as a member of Motown vocal group the Miracles from 1956 until his death on March 3\, 2013\, in Southfield\, Michigan. He was inducted\, in 2012\, as a member of the Miracles to the Rock and Roll Hall of Fame. \n \n 
URL:https://neosoulcypher.com/event/todays-soul-birthdays-february-19/
END:VEVENT
BEGIN:VEVENT
DTSTART;VALUE=DATE:20210218
DTEND;VALUE=DATE:20210219
DTSTAMP:20260419T233448
CREATED:20210217T151851Z
LAST-MODIFIED:20210217T151851Z
UID:11427-1613606400-1613692799@neosoulcypher.com
SUMMARY:Today's Soul Birthdays - February 18
DESCRIPTION:Bobby Taylor – American soul singer from R&B group\, The Vancouvers. \n \nIrma Thomas – American singer from New Orleans. \n \nRandy Crawford – American jazz and R&B singer.
URL:https://neosoulcypher.com/event/todays-soul-birthdays-february-18/
END:VEVENT
BEGIN:VEVENT
DTSTART;TZID=America/Chicago:20210217T200000
DTEND;TZID=America/Chicago:20210217T210000
DTSTAMP:20260419T233448
CREATED:20210213T232605Z
LAST-MODIFIED:20210213T232605Z
UID:11392-1613592000-1613595600@neosoulcypher.com
SUMMARY:Neo Soul Cypher Show Guest - Marlon McClain
DESCRIPTION:Wednesday\, February 17th Quash (Q-Man) and Regina come together to interview R&B Soul artist MARLON MCLAIN! \nTake a listen to Marlon McClain at: \nhttps://macmanmusic.disco.ac/track-new/51693632/play?user_id=104045&stream_only=1&signature=eZvv3rx4nF0A4nx5PVzv5nPP3wM%3ATao90PP0 \n  \nTHE NEO SOUL CYPHER SHOW – Relaunched and Reimagined! \n9pm ET\, 8pm CT\, 6pm PT \nONLINE: https://neosoulcypher.com/live-streams-and-broadcasts/ \nGet the latest in Neo Soul and Classic Hip-Hop Music\, Culture\, Lifestyle and Community
URL:https://neosoulcypher.com/event/neo-soul-cypher-show-guest-marlon-mcclain/
END:VEVENT
BEGIN:VEVENT
DTSTART;VALUE=DATE:20210217
DTEND;VALUE=DATE:20210218
DTSTAMP:20260419T233448
CREATED:20210217T140719Z
LAST-MODIFIED:20210217T144956Z
UID:11423-1613520000-1613606399@neosoulcypher.com
SUMMARY:Today's Soul Birthdays - February 17
DESCRIPTION:Orville Hoppy Jones – American actor. \n \n 
URL:https://neosoulcypher.com/event/todays-soul-birthdays-february-17/
END:VEVENT
BEGIN:VEVENT
DTSTART;VALUE=DATE:20210216
DTEND;VALUE=DATE:20210217
DTSTAMP:20260419T233448
CREATED:20210216T132858Z
LAST-MODIFIED:20210216T132858Z
UID:11415-1613433600-1613519999@neosoulcypher.com
SUMMARY:Today's Soul Birthdays - February 16
DESCRIPTION:Bill Doggett – American jazz and rhythm and blues pianist and organist. \n \nTed Taylor – American R&B and soul singer. \n \nJames Ingram – American singer\, songwriter\, record producer\, and instrumentalist. He was a two-time Grammy Award-winner and a two-time Academy Award nominee for Best Original Song. \n \nLeon Ware – American songwriter\, producer\, composer\, and singer. \n \nMarvin Sease – American blues and soul singer-songwriter known for his gospel-infused vocal style and erotic lyrics. \n \n  \n 
URL:https://neosoulcypher.com/event/todays-soul-birthdays-february-16/
END:VEVENT
BEGIN:VEVENT
DTSTART;VALUE=DATE:20210215
DTEND;VALUE=DATE:20210216
DTSTAMP:20260419T233448
CREATED:20210215T003325Z
LAST-MODIFIED:20210215T003325Z
UID:11400-1613347200-1613433599@neosoulcypher.com
SUMMARY:Today's Soul Birthdays - February 15
DESCRIPTION:Alvin Cash – American pop singer and actor. \n \nBrian Holland – American songwriter and record producer\, best known as a member of Holland–Dozier–Holland\, the songwriting and production team that was responsible for much of the Motown sound and numerous hit records by artists such as Martha and the Vandellas\, The Supremes\, The Four Tops\, and The Isley Brothers. \n \nMelissa Manchester – American singer-songwriter and actress.
URL:https://neosoulcypher.com/event/todays-soul-birthdays-february-15/
END:VEVENT
BEGIN:VEVENT
DTSTART;VALUE=DATE:20210213
DTEND;VALUE=DATE:20210214
DTSTAMP:20260419T233448
CREATED:20210212T231649Z
LAST-MODIFIED:20210212T231649Z
UID:11389-1613174400-1613260799@neosoulcypher.com
SUMMARY:Today's Soul Birthdays - February 13
DESCRIPTION:King Floyd – New Orleans soul singer and songwriter\, best known for his Top 10 hit from 1970\, “Groove Me”. \n \n 
URL:https://neosoulcypher.com/event/todays-soul-birthdays-february-13/
END:VEVENT
BEGIN:VEVENT
DTSTART;VALUE=DATE:20210212
DTEND;VALUE=DATE:20210213
DTSTAMP:20260419T233448
CREATED:20210212T133205Z
LAST-MODIFIED:20210212T133205Z
UID:11382-1613088000-1613174399@neosoulcypher.com
SUMMARY:Today's Soul Birthdays - February 12
DESCRIPTION:Gene McDaniels – American singer and songwriter. He had his greatest recording success in the early 1960s\, and had continued success as a songwriter with songs including “Compared to What” and Roberta Flack’s “Feel Like Makin’ Love”. \n \nVince Montana – American composer\, arranger\, vibraphonist\, and percussionist\, best known as a member of MFSB and as the founder of the Salsoul Orchestra. \n \n  \n 
URL:https://neosoulcypher.com/event/todays-soul-birthdays-february-12/
END:VEVENT
BEGIN:VEVENT
DTSTART;VALUE=DATE:20210211
DTEND;VALUE=DATE:20210212
DTSTAMP:20260419T233448
CREATED:20210211T002159Z
LAST-MODIFIED:20210211T002159Z
UID:11371-1613001600-1613087999@neosoulcypher.com
SUMMARY:Today's Soul Birthdays - February 11
DESCRIPTION:D’Angelo – American singer\, songwriter\, multi-instrumentalist and record producer. D’Angelo is associated with the neo soul movement\, along with artists like Erykah Badu\, Lauryn Hill\, Maxwell\, and collaborator Angie Stone. \n \nRochelle Fleming – American lead singer of 1970s disco group\, First Choice. \n \nLeon Haywood – American funk and soul singer\, songwriter\, and record producer. \n \nLittle John Taylor – American blues and soul singer. \n \nOtis Clay – American R&B and soul singer\, who started in gospel music. \n \nSergio Mendes – Brazilian musician. \n \nBrandy – American singer\, songwriter\, record producer\, actress\, and businesswoman. \n \n 
URL:https://neosoulcypher.com/event/todays-soul-birthdays-february-11/
END:VEVENT
BEGIN:VEVENT
DTSTART;VALUE=DATE:20210210
DTEND;VALUE=DATE:20210211
DTSTAMP:20260419T233448
CREATED:20210209T135934Z
LAST-MODIFIED:20210209T135934Z
UID:11367-1612915200-1613001599@neosoulcypher.com
SUMMARY:Today's Soul Birthdays - February 10
DESCRIPTION:Roberta Flack – American singer. She is known for her No. 1 singles “The First Time Ever I Saw Your Face”\, “Killing Me Softly with His Song”\, “Feel Like Makin’ Love”; and “Where Is the Love” and “The Closer I Get to You”\, two of her many duets with Donny Hathaway. \n \nSmiley Culture – British reggae singer and DJ known for his “fast chat” style. During a relatively brief period of fame and success\, he produced two of the most critically acclaimed reggae singles of the 1980s.
URL:https://neosoulcypher.com/event/todays-soul-birthdays-february-10/
END:VEVENT
BEGIN:VEVENT
DTSTART;VALUE=DATE:20210209
DTEND;VALUE=DATE:20210210
DTSTAMP:20260419T233448
CREATED:20210209T135704Z
LAST-MODIFIED:20210209T135704Z
UID:11362-1612828800-1612915199@neosoulcypher.com
SUMMARY:Today's Soul Birthdays - February 9
DESCRIPTION:Barbara Lewis – American singer and songwriter whose smooth style influenced rhythm and blues. \n \nMajor Harris – American R&B singer\, associated with the Philadelphia soul sound and the Delfonics. His biggest hit as a solo artist was the sultry 1975 single “Love Won’t Let Me Wait”. \n \nCarole King – American singer-songwriter who has been active since 1958\, initially as one of the staff songwriters at the Brill Building and later as a solo artist.
URL:https://neosoulcypher.com/event/todays-soul-birthdays-february-9-2/
END:VEVENT
BEGIN:VEVENT
DTSTART;VALUE=DATE:20210208
DTEND;VALUE=DATE:20210209
DTSTAMP:20260419T233448
CREATED:20210208T134803Z
LAST-MODIFIED:20210208T134803Z
UID:11358-1612742400-1612828799@neosoulcypher.com
SUMMARY:Today's Soul Birthdays - February 8
DESCRIPTION:Otis Leavill – American R&B singer\, songwriter and record company executive. \n \nRon Tyson – American singer and songwriter. First tenor of R&B soul group The Temptations.
URL:https://neosoulcypher.com/event/todays-soul-birthdays-february-9/
END:VEVENT
BEGIN:VEVENT
DTSTART;VALUE=DATE:20210207
DTEND;VALUE=DATE:20210208
DTSTAMP:20260419T233448
CREATED:20210205T123858Z
LAST-MODIFIED:20210205T123858Z
UID:11354-1612656000-1612742399@neosoulcypher.com
SUMMARY:Today's Soul Birthdays - February 7
DESCRIPTION:King Curtis – American saxophonist who played rhythm and blues\, jazz\, and rock and roll. A bandleader\, band member\, and session musician\, he was also a musical director and record producer. \n \n 
URL:https://neosoulcypher.com/event/todays-soul-birthdays-february-7/
END:VEVENT
BEGIN:VEVENT
DTSTART;VALUE=DATE:20210206
DTEND;VALUE=DATE:20210207
DTSTAMP:20260419T233448
CREATED:20210205T123725Z
LAST-MODIFIED:20210205T123725Z
UID:11348-1612569600-1612655999@neosoulcypher.com
SUMMARY:Today's Soul Birthdays - February 6
DESCRIPTION:Natalie Cole – American singer\, songwriter\, and actress. Cole was the daughter of American singer and jazz pianist Nat King Cole. She rose to success in the mid-1970s as an R&B singer with the hits “This Will Be”\, “Inseparable”\, and “Our Love”. \n \nWillie Tee – American keyboardist\, songwriter\, singer\, producer and notable early architect of New Orleans funk and soul\, who helped shape the sound of New Orleans for more than four decades. \n \nBob Marley – Jamaican singer\, songwriter\, and musician. Considered one of the pioneers of reggae\, his musical career was marked by fusing elements of reggae\, ska\, and rocksteady\, as well as his distinctive vocal and songwriting style.
URL:https://neosoulcypher.com/event/todays-soul-birthdays-february-6-2/
END:VEVENT
BEGIN:VEVENT
DTSTART;VALUE=DATE:20210205
DTEND;VALUE=DATE:20210206
DTSTAMP:20260419T233448
CREATED:20210204T193723Z
LAST-MODIFIED:20210204T193723Z
UID:11338-1612483200-1612569599@neosoulcypher.com
SUMMARY:Today's Soul Birthdays - February 5
DESCRIPTION:Ann Sexton – American soul singer who recorded mainly in the 1970s. Her biggest hit\, “You’re Gonna Miss Me”\, reached the R&B chart in 1973. \n \nBarrett Strong – American singer and songwriter. Strong was the first artist to record a hit for Motown\, although he is best known for his work as a songwriter\, particularly in association with producer Norman Whitfield. \n \nBobby Brown – American singer\, songwriter\, rapper\, dancer and actor. Brown\, alongside frequent collaborator Teddy Riley\, is noted as a pioneer of new jack swing: a fusion of hip hop and R&B.
URL:https://neosoulcypher.com/event/todays-soul-birthdays-february-5/
END:VEVENT
BEGIN:VEVENT
DTSTART;VALUE=DATE:20210204
DTEND;VALUE=DATE:20210205
DTSTAMP:20260419T233448
CREATED:20210131T225033Z
LAST-MODIFIED:20210131T225033Z
UID:11329-1612396800-1612483199@neosoulcypher.com
SUMMARY:Today's Soul Birthdays - February 4
DESCRIPTION:Kae Williams Snr. – American DJ\, record label owner and producer\, known as one of the earliest local deejays to play the blues. \n \nFlorence Larue – American singer and actress\, best known as an original member of the 5th Dimension. \n \n 
URL:https://neosoulcypher.com/event/todays-soul-birthdays-february-4/
END:VEVENT
BEGIN:VEVENT
DTSTART;TZID=America/Chicago:20210203T200000
DTEND;TZID=America/Chicago:20210203T210000
DTSTAMP:20260419T233448
CREATED:20210128T190459Z
LAST-MODIFIED:20210128T190459Z
UID:11294-1612382400-1612386000@neosoulcypher.com
SUMMARY:Neo Soul Cypher Show Guest - Nyah Grace
DESCRIPTION:Neo Soul Cypher Show!\nRelaunched and Reimagined!  \n(Q-Man) and Regina come together to interview R&B Soul artist NYAH GRACE!  \nTake a listen to Nyah Grace at: \nhttps://www.nyahgrace.com/
URL:https://neosoulcypher.com/event/neo-soul-cypher-show-guest-nyah-grace/
END:VEVENT
BEGIN:VEVENT
DTSTART;VALUE=DATE:20210203
DTEND;VALUE=DATE:20210204
DTSTAMP:20260419T233448
CREATED:20210131T223714Z
LAST-MODIFIED:20210131T223714Z
UID:11323-1612310400-1612396799@neosoulcypher.com
SUMMARY:Today's Soul Birthdays - February 3
DESCRIPTION:Dennis Edwards – American soul and R&B singer who was best known as the frontman in The Temptations\, on Motown Records. \n \nJohn Handy – American jazz musician most commonly associated with the alto saxophone\, although he also plays tenor and baritone\, saxello\, clarinet\, and oboe\, and also sings. \n \nJohnny Bristol – American musician\, most famous as a songwriter and record producer for the Motown label in the late 1960s and early 1970s. \n \nJohnny Guitar Watson – American blues\, soul\, and funk musician and singer-songwriter.
URL:https://neosoulcypher.com/event/todays-soul-birthdays-february-3/
END:VEVENT
BEGIN:VEVENT
DTSTART;VALUE=DATE:20210202
DTEND;VALUE=DATE:20210203
DTSTAMP:20260419T233448
CREATED:20210131T215754Z
LAST-MODIFIED:20210131T215754Z
UID:11317-1612224000-1612310399@neosoulcypher.com
SUMMARY:Today's Soul Birthdays - February 2
DESCRIPTION:Sonny Stitt – American jazz saxophonist of the bebop/hard bop idiom. \n \nAlphonso Johnson –  American jazz bassist active since the early 1970s. \n \nStan Getz – American jazz saxophonist\, professionally known as Stan Getz. \n \nAl Mackay – American guitarist\, songwriter\, and record producer. \n \n 
URL:https://neosoulcypher.com/event/todays-soul-birthdays-february-2/
END:VEVENT
END:VCALENDAR