BEGIN:VCALENDAR
VERSION:2.0
PRODID:-//Neo Soul Cypher - ECPv6.15.20//NONSGML v1.0//EN
CALSCALE:GREGORIAN
METHOD:PUBLISH
X-WR-CALNAME:Neo Soul Cypher
X-ORIGINAL-URL:https://neosoulcypher.com
X-WR-CALDESC:Events for Neo Soul Cypher
REFRESH-INTERVAL;VALUE=DURATION:PT1H
X-Robots-Tag:noindex
X-PUBLISHED-TTL:PT1H
BEGIN:VTIMEZONE
TZID:America/Chicago
BEGIN:DAYLIGHT
TZOFFSETFROM:-0600
TZOFFSETTO:-0500
TZNAME:CDT
DTSTART:20190310T080000
END:DAYLIGHT
BEGIN:STANDARD
TZOFFSETFROM:-0500
TZOFFSETTO:-0600
TZNAME:CST
DTSTART:20191103T070000
END:STANDARD
BEGIN:DAYLIGHT
TZOFFSETFROM:-0600
TZOFFSETTO:-0500
TZNAME:CDT
DTSTART:20200308T080000
END:DAYLIGHT
BEGIN:STANDARD
TZOFFSETFROM:-0500
TZOFFSETTO:-0600
TZNAME:CST
DTSTART:20201101T070000
END:STANDARD
BEGIN:DAYLIGHT
TZOFFSETFROM:-0600
TZOFFSETTO:-0500
TZNAME:CDT
DTSTART:20210314T080000
END:DAYLIGHT
BEGIN:STANDARD
TZOFFSETFROM:-0500
TZOFFSETTO:-0600
TZNAME:CST
DTSTART:20211107T070000
END:STANDARD
BEGIN:DAYLIGHT
TZOFFSETFROM:-0600
TZOFFSETTO:-0500
TZNAME:CDT
DTSTART:20220313T080000
END:DAYLIGHT
BEGIN:STANDARD
TZOFFSETFROM:-0500
TZOFFSETTO:-0600
TZNAME:CST
DTSTART:20221106T070000
END:STANDARD
END:VTIMEZONE
BEGIN:VEVENT
DTSTART;VALUE=DATE:20210122
DTEND;VALUE=DATE:20210123
DTSTAMP:20260419T230709
CREATED:20210118T013417Z
LAST-MODIFIED:20210118T013417Z
UID:11249-1611273600-1611359999@neosoulcypher.com
SUMMARY:Today's Soul Birthdays - January 22
DESCRIPTION:Nolan Strong – Detroit based singer of the R&B group The Diablos. \n \n  \nSam Cooke – American singer\, songwriter\, and entrepreneur. He was also influential as a composer and producer\, and is commonly known as the King of Soul for his distinctive vocals and significance in popular music.
URL:https://neosoulcypher.com/event/todays-soul-birthdays-january-22/
END:VEVENT
BEGIN:VEVENT
DTSTART;VALUE=DATE:20210121
DTEND;VALUE=DATE:20210122
DTSTAMP:20260419T230709
CREATED:20210118T012922Z
LAST-MODIFIED:20210118T012922Z
UID:11242-1611187200-1611273599@neosoulcypher.com
SUMMARY:Today's Soul Birthdays - January 21
DESCRIPTION:Edwin Starr – American singer and songwriter. Starr was famous for his Norman Whitfield-produced Motown singles of the 1970s\, most notably the number-one hit “War”. \n \nRichie Havens – American singer-songwriter and guitarist. His music encompassed elements of folk\, soul\, and rhythm and blues. \n \nSnooks Eaglin – American guitarist and singer based in New Orleans. In his early years he was sometimes credited under other names\, including Blind Snooks Eaglin\, “Lil” Snook\, Ford Eaglin\, Blind Guitar Ferd. \n \nBilly Ocean – Trinidadian-British recording artist who had a string of R&B international pop hits in the 1970s and 1980s. He was the most popular Trinidad–British R&B singer-songwriter of the early to mid-1980s.
URL:https://neosoulcypher.com/event/todays-soul-birthdays-january-21/
END:VEVENT
BEGIN:VEVENT
DTSTART;VALUE=DATE:20210120
DTEND;VALUE=DATE:20210121
DTSTAMP:20260419T230709
CREATED:20210118T011847Z
LAST-MODIFIED:20210120T125441Z
UID:11238-1611100800-1611187199@neosoulcypher.com
SUMMARY:Today's Soul Birthdays - January 20
DESCRIPTION:Ron Townson – American vocalist. He was an original member of The 5th Dimension\, a popular vocal group of the late 1960s and early 1970s; he is the only original member of the group who is no longer living. \n \nBilly Powell – Founding member of the R&B group The O’Jays. \n \n 
URL:https://neosoulcypher.com/event/todays-soul-birthdays-january-20/
END:VEVENT
BEGIN:VEVENT
DTSTART;VALUE=DATE:20210119
DTEND;VALUE=DATE:20210120
DTSTAMP:20260419T230709
CREATED:20210118T011021Z
LAST-MODIFIED:20210118T011021Z
UID:11232-1611014400-1611100799@neosoulcypher.com
SUMMARY:Today's Soul Birthdays - January 19
DESCRIPTION:Booker Newbury – American singer and keyboardist\, who was a member of the mid 1970s soul groups Sweet Thunder\, and Impact\, before pursuing a solo career. He is probably best remembered for his 1983 hit “Love Town”. \n \nHarry McGilberry – American R&B and soul singer and latter-day bass singer for The Temptations between 1995 and 2003. \n \nTrey Lorenz – American R&B singer-songwriter and record producer. He was born in Florence\, South Carolina and is a graduate of Wilson High School.
URL:https://neosoulcypher.com/event/todays-soul-birthdays-january-19/
END:VEVENT
BEGIN:VEVENT
DTSTART;VALUE=DATE:20210118
DTEND;VALUE=DATE:20210119
DTSTAMP:20260419T230709
CREATED:20210118T010247Z
LAST-MODIFIED:20210118T010247Z
UID:11228-1610928000-1611014399@neosoulcypher.com
SUMMARY:Today's Soul Birthdays - January 18
DESCRIPTION:David Ruffin – American soul singer and musician most famous for his work as one of the lead singers of the Temptations during the group’s “Classic Five” period as it was later known. He was the lead voice on such famous songs as “My Girl” and “Ain’t Too Proud to Beg.” \n \nFrankie Knuckles – American DJ\, record producer and remixer. He played an important role in developing and popularizing house music in Chicago during the 1980s\, when the genre was in its infancy.
URL:https://neosoulcypher.com/event/todays-soul-birthdays-january-18/
END:VEVENT
BEGIN:VEVENT
DTSTART;VALUE=DATE:20210117
DTEND;VALUE=DATE:20210118
DTSTAMP:20260419T230709
CREATED:20210113T192635Z
LAST-MODIFIED:20210113T192635Z
UID:11223-1610841600-1610927999@neosoulcypher.com
SUMMARY:Today's Soul Birthdays - January 17
DESCRIPTION:Cedar Walton – American hard bop jazz pianist. He came to prominence as a member of drummer Art Blakey’s band before establishing a long career as a bandleader and composer. \n \nEartha Kitt – American singer\, actress\, dancer\, voice actress\, comedienne\, activist\, author\, and songwriter known for her highly distinctive singing style and her 1953 recordings of “C’est si bon” and the Christmas novelty song “Santa Baby”\, both of which reached the top 10 on the Billboard Hot 100. \n \nWilliam Hart – Founding member of the R&B group The Delfonics.
URL:https://neosoulcypher.com/event/todays-soul-birthdays-january-17/
END:VEVENT
BEGIN:VEVENT
DTSTART;VALUE=DATE:20210116
DTEND;VALUE=DATE:20210117
DTSTAMP:20260419T230709
CREATED:20210113T192107Z
LAST-MODIFIED:20210113T192107Z
UID:11218-1610755200-1610841599@neosoulcypher.com
SUMMARY:Today's Soul Birthdays - January 16
DESCRIPTION:Aaliyah – American singer\, actress and model. She has been credited for helping to redefine contemporary R&B\, pop and hip hop\, earning her the nicknames the “Princess of R&B” and “Queen of Urban Pop”. \n \nSade – British singer\, songwriter\, and actress\, known as the lead singer of her eponymous band. She has been credited as one of the most successful British female artists in history\, and is often recognized as an influence on contemporary music.  \n \nBarbara Lynn – American rhythm and blues and electric blues guitarist\, singer and songwriter. She is best known for her R&B chart-topping hit\, “You’ll Lose a Good Thing”. In 2018\, Lynn received the National Heritage Fellowship.
URL:https://neosoulcypher.com/event/todays-soul-birthdays-january-16/
END:VEVENT
BEGIN:VEVENT
DTSTART;VALUE=DATE:20210115
DTEND;VALUE=DATE:20210116
DTSTAMP:20260419T230709
CREATED:20210113T191500Z
LAST-MODIFIED:20210113T191500Z
UID:11213-1610668800-1610755199@neosoulcypher.com
SUMMARY:Today's Soul Birthdays - January 15
DESCRIPTION:George Brown – Founding member of Kool & the Gang which became one of the most inspired and influential funk units during the ’70s\, and one of the most popular R&B groups of the ’80s after their breakout #1 hit “Celebration” in 1979. They released 7 Gold and Platinum albums. \n \nFonce Mizell – American record producing team in the 1970s\, consisting of Larry Mizell and Alphonso “Fonce” Mizell. \n \nSonny Bivins – Founding member of the Manhattans.
URL:https://neosoulcypher.com/event/todays-soul-birthdays-january-15/
END:VEVENT
BEGIN:VEVENT
DTSTART;VALUE=DATE:20210114
DTEND;VALUE=DATE:20210115
DTSTAMP:20260419T230709
CREATED:20210111T183511Z
LAST-MODIFIED:20210111T183511Z
UID:11191-1610582400-1610668799@neosoulcypher.com
SUMMARY:Today's Soul Birthdays - January 14
DESCRIPTION:Allen Toussaint – American musician\, songwriter\, arranger and record producer\, who was an influential figure in New Orleans rhythm and blues from the 1950s to the end of the century\, described as “one of popular music’s great backroom figures”. \n \nClarence Carter –  American blues and soul singer\, songwriter\, musician and record producer. His most successful songs include “Slip Away”\, “Back Door Santa” (both released 1968) and “Patches” (1970). \n\n\n\nLinda Jones – American soul singer with a strong gospel-influenced style. \n\n\n\nGrady Tate – American jazz and soul-jazz drummer and baritone vocalist. In addition to his work as sideman\, Tate released many albums as leader and lent his voice to songs in the animated Schoolhouse Rock! series. \n \n 
URL:https://neosoulcypher.com/event/todays-soul-birthdays-january-14/
END:VEVENT
BEGIN:VEVENT
DTSTART;VALUE=DATE:20210113
DTEND;VALUE=DATE:20210114
DTSTAMP:20260419T230709
CREATED:20210111T182931Z
LAST-MODIFIED:20210111T182931Z
UID:11188-1610496000-1610582399@neosoulcypher.com
SUMMARY:Today's Soul Birthdays - January 13
DESCRIPTION:C.P. Spencer – American musician\, singer\, songwriter and record producer for the Motown label in the late 1960s and early 1970s. He was a native of Detroit\, Michigan. Best known for being a member of the Motown quartet The Originals. \n \n 
URL:https://neosoulcypher.com/event/todays-soul-birthdays-january-13/
END:VEVENT
BEGIN:VEVENT
DTSTART;VALUE=DATE:20210112
DTEND;VALUE=DATE:20210113
DTSTAMP:20260419T230709
CREATED:20210111T182646Z
LAST-MODIFIED:20210111T182646Z
UID:11183-1610409600-1610495999@neosoulcypher.com
SUMMARY:Today's Soul Birthdays - January 12
DESCRIPTION:George Duke – American keyboardist\, composer\, singer-songwriter and record producer. He worked with numerous artists as arranger\, music director\, writer and co-writer\, record producer and as a professor of music. \n \nPhil Perry – American R&B singer\, songwriter\, musician and a former member of the soul group\, The Montclairs\, from 1971 to 1975. He was also known for performing the opening song to Disney’s sitcom\, Goof Troop. \n \nCynthia Robinson – American musician\, best known for being a founding member\, the trumpeter and a vocalist in Sly and the Family Stone. Her voice and presence were featured in the hits “Dance to the Music” and “I Want to Take You Higher.”
URL:https://neosoulcypher.com/event/todays-soul-birthdays-january-12/
END:VEVENT
BEGIN:VEVENT
DTSTART;VALUE=DATE:20210111
DTEND;VALUE=DATE:20210112
DTSTAMP:20260419T230709
CREATED:20210111T152117Z
LAST-MODIFIED:20210111T152117Z
UID:11178-1610323200-1610409599@neosoulcypher.com
SUMMARY:Today's Soul Birthdays - January 11
DESCRIPTION:Mary J Blige –  American singer-songwriter\, actress\, and philanthropist. Her career began in 1991 when she was signed to Uptown Records. She went on to release 13 studio albums\, eight of which have achieved multi-platinum worldwide sales. \n \nLee Ritenour – American jazz guitarist who has been active since the late 1960s. \n \nRahsaan Patterson – American singer and actor\, best known for portraying “The Kid” on the 1980s television show Kids Incorporated.
URL:https://neosoulcypher.com/event/todays-soul-birthdays-january-11/
END:VEVENT
BEGIN:VEVENT
DTSTART;VALUE=DATE:20210110
DTEND;VALUE=DATE:20210111
DTSTAMP:20260419T230709
CREATED:20210105T003843Z
LAST-MODIFIED:20210105T003843Z
UID:11157-1610236800-1610323199@neosoulcypher.com
SUMMARY:Today's Soul Birthdays - January 10
DESCRIPTION:Daryl I. Cameron – American musician and singer. Captain Sky’s funk-based musical style\, futuristic costumes\, and psychedelic imagery are similar to those of George Clinton\, Bootsy Collins\, and other Parliament/Funkadelic projects. \n \nFayette Pinkney – American singer and one of the original members of musical group The Three Degrees. \n \nDonald Fagen- American musician best known as the co-founder\, lead singer\, co-songwriter\, and keyboardist of the band Steely Dan\, formed in the early 1970s. \n \nJerry Wexler –  Music journalist turned music producer\, and was one of the main record industry players behind music from the 1950s through the 1980s. \n \nJohnnie Ray- American singer\, songwriter\, and pianist. Highly popular for most of the 1950s\, Ray has been cited by critics as a major precursor to what became rock and roll\, for his jazz and blues-influenced music\, and his animated stage personality. \n \nMax Roach – American jazz drummer and composer. A pioneer of bebop\, he worked in many other styles of music\, and is generally considered one of the most important drummers in history. \n \n 
URL:https://neosoulcypher.com/event/todays-soul-birthdays-january-10/
END:VEVENT
BEGIN:VEVENT
DTSTART;VALUE=DATE:20210109
DTEND;VALUE=DATE:20210110
DTSTAMP:20260419T230709
CREATED:20210105T002902Z
LAST-MODIFIED:20210105T002902Z
UID:11153-1610150400-1610236799@neosoulcypher.com
SUMMARY:Today's Soul Birthdays - January 9
DESCRIPTION:Barbara Carr –  American blues singer. \n \nRoy Head – American singer\, best known for his hit record “Treat Her Right”.
URL:https://neosoulcypher.com/event/todays-soul-birthdays-january-9/
END:VEVENT
BEGIN:VEVENT
DTSTART;VALUE=DATE:20210108
DTEND;VALUE=DATE:20210109
DTSTAMP:20260419T230709
CREATED:20210105T002554Z
LAST-MODIFIED:20210105T002554Z
UID:11149-1610064000-1610150399@neosoulcypher.com
SUMMARY:Today's Soul Birthdays - January 8
DESCRIPTION:David Bowie – English singer-songwriter and actor. He was a leading figure in the music industry and is regarded as one of the most influential musicians of the 20th century. \n \n 
URL:https://neosoulcypher.com/event/toda/
END:VEVENT
BEGIN:VEVENT
DTSTART;VALUE=DATE:20210107
DTEND;VALUE=DATE:20210108
DTSTAMP:20260419T230709
CREATED:20210105T002207Z
LAST-MODIFIED:20210105T002207Z
UID:11146-1609977600-1610063999@neosoulcypher.com
SUMMARY:Today's Soul Birthdays - January 7
DESCRIPTION:Kenny Loggins – American singer-songwriter and guitarist. His early songs were recorded with the Nitty Gritty Dirt Band in 1970\, which led to seven albums recorded as Loggins and Messina from 1972 to 1977.
URL:https://neosoulcypher.com/event/t/
END:VEVENT
BEGIN:VEVENT
DTSTART;VALUE=DATE:20210106
DTEND;VALUE=DATE:20210107
DTSTAMP:20260419T230709
CREATED:20210105T001843Z
LAST-MODIFIED:20210105T001843Z
UID:11140-1609891200-1609977599@neosoulcypher.com
SUMMARY:Today's Soul Birthdays - January 6
DESCRIPTION:Doris Troy – American R&B singer and songwriter\, known to her many fans as “Mama Soul”. Her biggest hit was “Just One Look”\, a top 10 hit in 1963. \n \nShirley Brown – American R&B singer\, best known for her million-selling single “Woman to Woman”\, which was nominated for a Grammy Award in 1975. \n \nVan McCoy – American musician\, record producer\, arranger\, songwriter\, singer and orchestra conductor. He is known best for his 1975 internationally successful song “The Hustle”. \n \nKathy Sledge – American singer–songwriter and producer. Sledge is best known as the youngest and founding member of Sister Sledge\, an American vocal group which is made up of her sisters that formed in 1971.
URL:https://neosoulcypher.com/event/todays-soul-birthdays-january-6/
END:VEVENT
BEGIN:VEVENT
DTSTART;VALUE=DATE:20210105
DTEND;VALUE=DATE:20210106
DTSTAMP:20260419T230709
CREATED:20210101T145323Z
LAST-MODIFIED:20210101T145323Z
UID:11133-1609804800-1609891199@neosoulcypher.com
SUMMARY:Today's Soul Birthdays - January 5
DESCRIPTION:Johnny Adams – American blues\, jazz and gospel singer\, known as “The Tan Canary” for the multi-octave range of his singing voice\, his swooping vocal mannerisms and falsetto. \n \nWilbert Harrison – American rhythm and blues singer\, pianist\, guitarist and harmonica player.
URL:https://neosoulcypher.com/event/todays-soul-birthdays-january-5/
END:VEVENT
BEGIN:VEVENT
DTSTART;VALUE=DATE:20210104
DTEND;VALUE=DATE:20210105
DTSTAMP:20260419T230709
CREATED:20210101T144837Z
LAST-MODIFIED:20210101T144837Z
UID:11129-1609718400-1609804799@neosoulcypher.com
SUMMARY:Today's Soul Birthdays - January 4
DESCRIPTION:Arthur Conley – American soul singer\, best known for the 1967 hit “Sweet Soul Music”. \n \nDenise Katrina Matthews “Vanity” – Canadian singer\, songwriter\, dancer\, model\, and actress who turned away from her music and acting career to concentrate on evangelism.
URL:https://neosoulcypher.com/event/todays-soul-birthdays-january-4/
END:VEVENT
BEGIN:VEVENT
DTSTART;VALUE=DATE:20210103
DTEND;VALUE=DATE:20210104
DTSTAMP:20260419T230709
CREATED:20210101T144342Z
LAST-MODIFIED:20210101T144342Z
UID:11125-1609632000-1609718399@neosoulcypher.com
SUMMARY:Today's Soul Birthdays - January 3
DESCRIPTION:Willie Mitchell – American trumpeter\, bandleader\, soul\, R&B\, rock and roll\, pop and funk record producer and arranger who ran Royal Studios in Memphis\, Tennessee. \n \nSir George Martin – English record producer\, arranger\, composer\, conductor\, audio engineer\, and musician. He was referred to as the “Fifth Beatle” in reference to his extensive involvement on each of the Beatles’ original albums. \n \n 
URL:https://neosoulcypher.com/event/todays-soul-birthdays-january-3/
END:VEVENT
BEGIN:VEVENT
DTSTART;VALUE=DATE:20210102
DTEND;VALUE=DATE:20210103
DTSTAMP:20260419T230709
CREATED:20210101T144031Z
LAST-MODIFIED:20210101T144031Z
UID:11121-1609545600-1609631999@neosoulcypher.com
SUMMARY:Today's Soul Birthdays - January 2
DESCRIPTION:Arthur Prysock – American jazz and R&B singer best known for his live shows and his deep baritone\, influenced by Billy Eckstine. \n \nNathan Heathman – He was a child prodigy in music playing various instruments like the piano\, clarinet\, and the saxophone.  Nathan starred as ‘Purlie Victorious’\, the lead role in the off-Broadway production of ‘Purlie’ and wore the hat of musical director for Marymount University’s production of ‘Little Shop Of Horrors.’ \n \n 
URL:https://neosoulcypher.com/event/todays-soul-birthdays-january-2/
END:VEVENT
BEGIN:VEVENT
DTSTART;VALUE=DATE:20210101
DTEND;VALUE=DATE:20210102
DTSTAMP:20260419T230709
CREATED:20210101T141505Z
LAST-MODIFIED:20210101T141505Z
UID:11116-1609459200-1609545599@neosoulcypher.com
SUMMARY:Today's Soul Birthdays - January 1
DESCRIPTION:Grandmaster Flash – American hip hop recording artist and DJ. He is considered to be one of the pioneers of hip hop DJing\, cutting\, scratching and mixing. \n \nMarshall Jones – Founding member and bassist of the funk\, soul music and R&B band Ohio Players. \n \nBruce Nazarian – American funk and rock musician\, recording artist and music producer from Detroit\, Michigan. Nazarian was an Apple Certified Trainer and Certified Pro on various professional applications\, including DVD Studio Pro and Logic Pro.
URL:https://neosoulcypher.com/event/todays-soul-birthdays-january-1/
END:VEVENT
BEGIN:VEVENT
DTSTART;VALUE=DATE:20201231
DTEND;VALUE=DATE:20210101
DTSTAMP:20260419T230709
CREATED:20201229T115445Z
LAST-MODIFIED:20201229T115445Z
UID:11105-1609372800-1609459199@neosoulcypher.com
SUMMARY:Today's Soul Birthdays - December 31
DESCRIPTION:Donna Summer – American singer\, songwriter and actress. She gained prominence during the disco era of the 1970s and became known as the “Queen of Disco”\, while her music gained a global following. \n \n 
URL:https://neosoulcypher.com/event/todays-soul-birthdays-december-31/
END:VEVENT
BEGIN:VEVENT
DTSTART;VALUE=DATE:20201230
DTEND;VALUE=DATE:20201231
DTSTAMP:20260419T230709
CREATED:20201229T115226Z
LAST-MODIFIED:20201229T115226Z
UID:11098-1609286400-1609372799@neosoulcypher.com
SUMMARY:Today's Soul Birthdays - December 30
DESCRIPTION:Chris Jasper – American singer\, composer\, and producer. \n \nPaul Jackson Jr. – American fusion/urban jazz composer\, arranger\, producer and guitarist. \n \nBo Diddley – American singer\, guitarist\, songwriter and music producer who played a key role in the transition from the blues to rock and roll. He influenced many artists\, including Buddy Holly\, Elvis Presley\, the Beatles\, the Rolling Stones\, the Animals\, and the Clash. \n \nViola Wills – American pop singer\, best known for the 1979 UK Singles Chart number 8 hit and US U.S. Hot Dance Club Play number 52 hit\, “Gonna Get Along Without Ya Now”. \n \nJay Kay – English singer-songwriter. He rose to international fame as a founding member and lead vocalist of the jazz-funk band Jamiroquai.
URL:https://neosoulcypher.com/event/todays-soul-birthdays-december-30/
END:VEVENT
BEGIN:VEVENT
DTSTART;VALUE=DATE:20201229
DTEND;VALUE=DATE:20201230
DTSTAMP:20260419T230709
CREATED:20201228T140021Z
LAST-MODIFIED:20201228T140021Z
UID:11091-1609200000-1609286399@neosoulcypher.com
SUMMARY:Today's Soul Birthdays - December 29
DESCRIPTION:Patti Drew – American pop singer who achieved brief success in the late 1960s. \n \nYvonne Elliman – American singer\, songwriter\, and actress who performed for four years in the first cast of the stage musical Jesus Christ Superstar.
URL:https://neosoulcypher.com/event/todays-soul-birthdays-december-29-2/
END:VEVENT
BEGIN:VEVENT
DTSTART;VALUE=DATE:20201228
DTEND;VALUE=DATE:20201229
DTSTAMP:20260419T230709
CREATED:20201228T135706Z
LAST-MODIFIED:20201228T135722Z
UID:11084-1609113600-1609199999@neosoulcypher.com
SUMMARY:Today's Soul Birthdays - December 28
DESCRIPTION:Johnny Otis – American singer\, musician\, composer\, arranger\, bandleader\, talent scout\, disc jockey\, record producer\, television show host\, artist\, author\, journalist\, minister\, and impresario. He was a seminal influence on American R&B and rock and roll. \n \nLonnie Liston Smith – American jazz\, soul\, and funk musician who played with such jazz artists as Pharoah Sanders and Miles Davis before forming Lonnie Liston Smith and the Cosmic Echoes\, recording a number of albums widely regarded as classics in the fusion\, smooth jazz and acid jazz genres. \n \nPops Staples – American gospel and R&B musician. \n \nDonna Hightower – American R&B\, soul and jazz singer and songwriter\, who recorded and released albums for the Decca and Capitol labels. \n \n 
URL:https://neosoulcypher.com/event/todays-soul-birthdays-december-29/
END:VEVENT
BEGIN:VEVENT
DTSTART;VALUE=DATE:20201225
DTEND;VALUE=DATE:20201226
DTSTAMP:20260419T230709
CREATED:20201224T162520Z
LAST-MODIFIED:20201224T162520Z
UID:11072-1608854400-1608940799@neosoulcypher.com
SUMMARY:Today's Soul Birthdays - December 25
DESCRIPTION:Bob James – American jazz keyboardist\, arranger\, and record producer. He founded the band Fourplay and wrote “Angela”\, the theme song for the TV show Taxi. \n \nChris Kenner – American\, New Orleans-based R&B singer and songwriter\, best known for two hit singles in the early 1960s\, “I Like It Like That” and “Land of 1000 Dances”\, which became staples in the repertoires of many other musicians. \n \nJohn Edwards – American soul singer who had a moderately successful solo career before becoming lead singer of The Spinners between 1977 and 2000. \n \nSheree Brown – Singer\, songwriter\, musician\, and producer. She began her career as a rhythm & blues and pop recording artist on the Capitol Records label in the early eighties. \n \nSteve Mancha – Musician.
URL:https://neosoulcypher.com/event/todays-soul-birthdays-december-25/
END:VEVENT
BEGIN:VEVENT
DTSTART;VALUE=DATE:20201224
DTEND;VALUE=DATE:20201225
DTSTAMP:20260419T230709
CREATED:20201221T123034Z
LAST-MODIFIED:20201221T123034Z
UID:11056-1608768000-1608854399@neosoulcypher.com
SUMMARY:Today's Soul Birthdays - December 24
DESCRIPTION:Lee Dorsey – American pop and R&B singer during the 1960s. \n \n  \nWoody Shaw – American jazz trumpeter\, flugelhornist\, cornetist\, composer\, arranger\, band leader\, and educator.
URL:https://neosoulcypher.com/event/todays-soul-birthdays-december-24/
END:VEVENT
BEGIN:VEVENT
DTSTART;VALUE=DATE:20201223
DTEND;VALUE=DATE:20201224
DTSTAMP:20260419T230709
CREATED:20201221T122713Z
LAST-MODIFIED:20201221T122713Z
UID:11052-1608681600-1608767999@neosoulcypher.com
SUMMARY:Today's Soul Birthdays - December 23
DESCRIPTION:Eugene Record – American singer\, songwriter\, arranger and record producer. He was best known as the lead vocalist of the Chicago-based vocal group The Chi-Lites from their formation in 1959 until 1973 and again from 1980 to 1988. \n \nEsther Phillips – American singer\, best known for her R&B vocals. She also performed pop\, country\, jazz\, blues and soul music. \n \n 
URL:https://neosoulcypher.com/event/todays-soul-birthdays-december-23/
END:VEVENT
BEGIN:VEVENT
DTSTART;VALUE=DATE:20201222
DTEND;VALUE=DATE:20201223
DTSTAMP:20260419T230709
CREATED:20201221T122446Z
LAST-MODIFIED:20201221T122446Z
UID:11049-1608595200-1608681599@neosoulcypher.com
SUMMARY:Today's Soul Birthdays - December 22
DESCRIPTION:Robin and Maurice Gibb – American vocalist from R&B music group the Bee Gees.
URL:https://neosoulcypher.com/event/todays-soul-birthdays-december-22/
END:VEVENT
END:VCALENDAR