BEGIN:VCALENDAR
VERSION:2.0
PRODID:-//Neo Soul Cypher - ECPv6.15.20//NONSGML v1.0//EN
CALSCALE:GREGORIAN
METHOD:PUBLISH
X-WR-CALNAME:Neo Soul Cypher
X-ORIGINAL-URL:https://neosoulcypher.com
X-WR-CALDESC:Events for Neo Soul Cypher
REFRESH-INTERVAL;VALUE=DURATION:PT1H
X-Robots-Tag:noindex
X-PUBLISHED-TTL:PT1H
BEGIN:VTIMEZONE
TZID:America/Chicago
BEGIN:DAYLIGHT
TZOFFSETFROM:-0600
TZOFFSETTO:-0500
TZNAME:CDT
DTSTART:20190310T080000
END:DAYLIGHT
BEGIN:STANDARD
TZOFFSETFROM:-0500
TZOFFSETTO:-0600
TZNAME:CST
DTSTART:20191103T070000
END:STANDARD
BEGIN:DAYLIGHT
TZOFFSETFROM:-0600
TZOFFSETTO:-0500
TZNAME:CDT
DTSTART:20200308T080000
END:DAYLIGHT
BEGIN:STANDARD
TZOFFSETFROM:-0500
TZOFFSETTO:-0600
TZNAME:CST
DTSTART:20201101T070000
END:STANDARD
BEGIN:DAYLIGHT
TZOFFSETFROM:-0600
TZOFFSETTO:-0500
TZNAME:CDT
DTSTART:20210314T080000
END:DAYLIGHT
BEGIN:STANDARD
TZOFFSETFROM:-0500
TZOFFSETTO:-0600
TZNAME:CST
DTSTART:20211107T070000
END:STANDARD
END:VTIMEZONE
BEGIN:VEVENT
DTSTART;VALUE=DATE:20201229
DTEND;VALUE=DATE:20201230
DTSTAMP:20260420T022503
CREATED:20201228T140021Z
LAST-MODIFIED:20201228T140021Z
UID:11091-1609200000-1609286399@neosoulcypher.com
SUMMARY:Today's Soul Birthdays - December 29
DESCRIPTION:Patti Drew – American pop singer who achieved brief success in the late 1960s. \n \nYvonne Elliman – American singer\, songwriter\, and actress who performed for four years in the first cast of the stage musical Jesus Christ Superstar.
URL:https://neosoulcypher.com/event/todays-soul-birthdays-december-29-2/
END:VEVENT
BEGIN:VEVENT
DTSTART;VALUE=DATE:20201228
DTEND;VALUE=DATE:20201229
DTSTAMP:20260420T022503
CREATED:20201228T135706Z
LAST-MODIFIED:20201228T135722Z
UID:11084-1609113600-1609199999@neosoulcypher.com
SUMMARY:Today's Soul Birthdays - December 28
DESCRIPTION:Johnny Otis – American singer\, musician\, composer\, arranger\, bandleader\, talent scout\, disc jockey\, record producer\, television show host\, artist\, author\, journalist\, minister\, and impresario. He was a seminal influence on American R&B and rock and roll. \n \nLonnie Liston Smith – American jazz\, soul\, and funk musician who played with such jazz artists as Pharoah Sanders and Miles Davis before forming Lonnie Liston Smith and the Cosmic Echoes\, recording a number of albums widely regarded as classics in the fusion\, smooth jazz and acid jazz genres. \n \nPops Staples – American gospel and R&B musician. \n \nDonna Hightower – American R&B\, soul and jazz singer and songwriter\, who recorded and released albums for the Decca and Capitol labels. \n \n 
URL:https://neosoulcypher.com/event/todays-soul-birthdays-december-29/
END:VEVENT
BEGIN:VEVENT
DTSTART;VALUE=DATE:20201225
DTEND;VALUE=DATE:20201226
DTSTAMP:20260420T022503
CREATED:20201224T162520Z
LAST-MODIFIED:20201224T162520Z
UID:11072-1608854400-1608940799@neosoulcypher.com
SUMMARY:Today's Soul Birthdays - December 25
DESCRIPTION:Bob James – American jazz keyboardist\, arranger\, and record producer. He founded the band Fourplay and wrote “Angela”\, the theme song for the TV show Taxi. \n \nChris Kenner – American\, New Orleans-based R&B singer and songwriter\, best known for two hit singles in the early 1960s\, “I Like It Like That” and “Land of 1000 Dances”\, which became staples in the repertoires of many other musicians. \n \nJohn Edwards – American soul singer who had a moderately successful solo career before becoming lead singer of The Spinners between 1977 and 2000. \n \nSheree Brown – Singer\, songwriter\, musician\, and producer. She began her career as a rhythm & blues and pop recording artist on the Capitol Records label in the early eighties. \n \nSteve Mancha – Musician.
URL:https://neosoulcypher.com/event/todays-soul-birthdays-december-25/
END:VEVENT
BEGIN:VEVENT
DTSTART;VALUE=DATE:20201224
DTEND;VALUE=DATE:20201225
DTSTAMP:20260420T022503
CREATED:20201221T123034Z
LAST-MODIFIED:20201221T123034Z
UID:11056-1608768000-1608854399@neosoulcypher.com
SUMMARY:Today's Soul Birthdays - December 24
DESCRIPTION:Lee Dorsey – American pop and R&B singer during the 1960s. \n \n  \nWoody Shaw – American jazz trumpeter\, flugelhornist\, cornetist\, composer\, arranger\, band leader\, and educator.
URL:https://neosoulcypher.com/event/todays-soul-birthdays-december-24/
END:VEVENT
BEGIN:VEVENT
DTSTART;VALUE=DATE:20201223
DTEND;VALUE=DATE:20201224
DTSTAMP:20260420T022503
CREATED:20201221T122713Z
LAST-MODIFIED:20201221T122713Z
UID:11052-1608681600-1608767999@neosoulcypher.com
SUMMARY:Today's Soul Birthdays - December 23
DESCRIPTION:Eugene Record – American singer\, songwriter\, arranger and record producer. He was best known as the lead vocalist of the Chicago-based vocal group The Chi-Lites from their formation in 1959 until 1973 and again from 1980 to 1988. \n \nEsther Phillips – American singer\, best known for her R&B vocals. She also performed pop\, country\, jazz\, blues and soul music. \n \n 
URL:https://neosoulcypher.com/event/todays-soul-birthdays-december-23/
END:VEVENT
BEGIN:VEVENT
DTSTART;VALUE=DATE:20201222
DTEND;VALUE=DATE:20201223
DTSTAMP:20260420T022503
CREATED:20201221T122446Z
LAST-MODIFIED:20201221T122446Z
UID:11049-1608595200-1608681599@neosoulcypher.com
SUMMARY:Today's Soul Birthdays - December 22
DESCRIPTION:Robin and Maurice Gibb – American vocalist from R&B music group the Bee Gees.
URL:https://neosoulcypher.com/event/todays-soul-birthdays-december-22/
END:VEVENT
BEGIN:VEVENT
DTSTART;VALUE=DATE:20201221
DTEND;VALUE=DATE:20201222
DTSTAMP:20260420T022503
CREATED:20201221T122009Z
LAST-MODIFIED:20201221T122009Z
UID:11043-1608508800-1608595199@neosoulcypher.com
SUMMARY:Today's Soul Birthdays - December 21
DESCRIPTION:Betty Wright – American soul and R&B singer\, songwriter and background vocalist. Beginning her professional career in the late 1960s as a teenager\, Wright rose to fame in the 1970s with hits such as “Clean Up Woman” and “Tonight Is the Night”. \n \nCarla Thomas – American singer\, who is often referred to as the Queen of Memphis Soul. Thomas is the daughter of Rufus Thomas. \n \nHank Crawford – American R&B\, hard bop\, jazz-funk\, soul jazz alto saxophonist\, arranger and songwriter. \n \nGwen McCrae – American singer\, best known for her 1975 hit “Rockin’ Chair”.
URL:https://neosoulcypher.com/event/todays-soul-birthdays-december-21/
END:VEVENT
BEGIN:VEVENT
DTSTART;VALUE=DATE:20201220
DTEND;VALUE=DATE:20201221
DTSTAMP:20260420T022503
CREATED:20201218T120859Z
LAST-MODIFIED:20201218T120859Z
UID:11039-1608422400-1608508799@neosoulcypher.com
SUMMARY:Today's Soul Birthdays - December 20
DESCRIPTION:Kim Weston – American soul singer\, and Motown alumna. \n \nKeith Wilder – Singer of the influential Seventies funk outfit Heatwave.
URL:https://neosoulcypher.com/event/todays-soul-birthdays-december-20/
END:VEVENT
BEGIN:VEVENT
DTSTART;VALUE=DATE:20201219
DTEND;VALUE=DATE:20201220
DTSTAMP:20260420T022503
CREATED:20201218T120450Z
LAST-MODIFIED:20201218T120450Z
UID:11033-1608336000-1608422399@neosoulcypher.com
SUMMARY:Today's Soul Birthdays - December 19
DESCRIPTION:Chuckii Booker – American producer\, singer\, songwriter\, multi-instrumentalist and bandleader. \n \nCornell Dupree – American jazz and R&B guitarist. \n \nMaurice White – American singer\, musician\, songwriter\, and record producer. He was the founder\, leader\, main songwriter\, and producer of the band Earth\, Wind & Fire\, and served as the band’s co-lead singer with Philip Bailey. \n \nLenny White – American jazz fusion drummer who was a member of the band Return to Forever led by Chick Corea in the 1970s.
URL:https://neosoulcypher.com/event/todays-soul-birthdays-december-19/
END:VEVENT
BEGIN:VEVENT
DTSTART;VALUE=DATE:20201218
DTEND;VALUE=DATE:20201219
DTSTAMP:20260420T022503
CREATED:20201217T114504Z
LAST-MODIFIED:20201217T114504Z
UID:11030-1608249600-1608335999@neosoulcypher.com
SUMMARY:Today's Soul Birthdays - December 18
DESCRIPTION:Anita O’Day – American jazz singer and self proclaimed “song stylist” widely admired for her sense of rhythm and dynamics\, and her early big band appearances that shattered the traditional image of the “girl singer”.
URL:https://neosoulcypher.com/event/todays-soul-birthdays-december-18/
END:VEVENT
BEGIN:VEVENT
DTSTART;VALUE=DATE:20201217
DTEND;VALUE=DATE:20201218
DTSTAMP:20260420T022503
CREATED:20201217T114318Z
LAST-MODIFIED:20201217T114318Z
UID:11023-1608163200-1608249599@neosoulcypher.com
SUMMARY:Today's Soul Birthdays - December 17
DESCRIPTION:Eddie Kendricks – American singer and songwriter. Noted for his distinctive falsetto singing style\, Kendricks co-founded the Motown singing group The Temptations\, and was one of their lead singers from 1960 until 1971. \n \n  \nWanda Hutchinson – Vocalist who came to prominence in the American sister Grammy-award winning R&B/soul group\, The Emotions. The Emotions are an American Grammy Award-winning soul/R&B vocal group from Chicago\, Illinois. \n \nArt Neville – American singer\, songwriter and keyboardist from New Orleans. \n \nJames Booker – New Orleans rhythm and blues keyboardist born in New Orleans\, Louisiana\, United States.
URL:https://neosoulcypher.com/event/todays-soul-birthdays-december-17/
END:VEVENT
BEGIN:VEVENT
DTSTART;VALUE=DATE:20201216
DTEND;VALUE=DATE:20201217
DTSTAMP:20260420T022503
CREATED:20201214T143157Z
LAST-MODIFIED:20201214T143157Z
UID:10995-1608076800-1608163199@neosoulcypher.com
SUMMARY:Today's Soul Birthdays - December 16
DESCRIPTION:Michael McCary – American singer\, known for being a former bass singer of the R&B group Boyz II Men.
URL:https://neosoulcypher.com/event/todays-soul-birthdays-december-16/
END:VEVENT
BEGIN:VEVENT
DTSTART;VALUE=DATE:20201215
DTEND;VALUE=DATE:20201216
DTSTAMP:20260420T022503
CREATED:20201214T142939Z
LAST-MODIFIED:20201214T142939Z
UID:10991-1607990400-1608076799@neosoulcypher.com
SUMMARY:Today's Soul Birthdays - December 15
DESCRIPTION:Cindy Birdsong – American singer who became famous as a member of The Supremes in 1967\, when she replaced co-founding member Florence Ballard. Birdsong had previously been a member of Patti LaBelle & the Bluebelles. \n \nHarry Ray – Singer from American R&B vocal group\, The Moments.
URL:https://neosoulcypher.com/event/todays-soul-birthdays-december-15/
END:VEVENT
BEGIN:VEVENT
DTSTART;VALUE=DATE:20201214
DTEND;VALUE=DATE:20201215
DTSTAMP:20260420T022503
CREATED:20201214T140951Z
LAST-MODIFIED:20201214T140951Z
UID:10988-1607904000-1607990399@neosoulcypher.com
SUMMARY:Today's Soul Birthdays - December 14
DESCRIPTION:Clark Terry – American swing and bebop trumpeter\, a pioneer of the flugelhorn in jazz\, and a composer and educator.
URL:https://neosoulcypher.com/event/todays-soul-birthdays-december-14/
END:VEVENT
BEGIN:VEVENT
DTSTART;VALUE=DATE:20201212
DTEND;VALUE=DATE:20201213
DTSTAMP:20260420T022503
CREATED:20201211T141028Z
LAST-MODIFIED:20201211T141028Z
UID:10981-1607731200-1607817599@neosoulcypher.com
SUMMARY:Today's Soul Birthdays - December 12
DESCRIPTION:Dionne Warwick – American singer\, actress\, television host\, and former Goodwill Ambassador for the Food and Agriculture Organization. \n \nSheila E – American percussionist\, singer\, author\, and actress. She began her career in the mid-1970s as a percussionist and singer for The George Duke Band. \n \nJoe Williams – American jazz singer. \n \nAnna Ruby Gordy Gaye – American businesswoman\, composer and songwriter. An elder sister of Motown founder Berry Gordy\, she became a record executive in the mid-to-late 1950s distributing records released on Checker and Gone Records before forming the Anna label with Billy Davis and sister Gwen. \n \nGrover Washington Jr. – American jazz-funk / soul-jazz saxophonist.
URL:https://neosoulcypher.com/event/todays-soul-birthdays-december-12/
END:VEVENT
BEGIN:VEVENT
DTSTART;TZID=America/Chicago:20201211T200000
DTEND;TZID=America/Chicago:20201211T220000
DTSTAMP:20260420T022503
CREATED:20201123T124425Z
LAST-MODIFIED:20201123T124425Z
UID:10894-1607716800-1607724000@neosoulcypher.com
SUMMARY:En Vogue!!! EXCLUSIVE Livestream! Dec 11 @6PM PT/9PM ET
DESCRIPTION:Live from Los Angeles\, CA! Exclusive livestream with Sessions Live on December 11 @6PM PT/9PM ET. \nPurchase tickets here: https://www.sessionslive.com/envogue/tickets
URL:https://neosoulcypher.com/event/en-vogue-exclusive-livestream-dec-11-6pm-pt-9pm-et/
END:VEVENT
BEGIN:VEVENT
DTSTART;TZID=America/Chicago:20201211T080000
DTEND;TZID=America/Chicago:20201211T170000
DTSTAMP:20260420T022503
CREATED:20201208T183201Z
LAST-MODIFIED:20201208T183201Z
UID:10971-1607673600-1607706000@neosoulcypher.com
SUMMARY:Today's Soul Birthdays - December 11
DESCRIPTION:Jermaine Jackson – American singer\, songwriter\, bass guitarist and member of the Jackson family. \n \nBenny Spellman – American R&B singer\, best known for the 1962 single “Lipstick Traces” and its B-side “Fortune Teller”\, both written by Allen Toussaint. \n \nMcCoy Tyner – American jazz pianist known for his work with the John Coltrane Quartet and a long solo career.
URL:https://neosoulcypher.com/event/todays-soul-birthdays-december-11/
END:VEVENT
BEGIN:VEVENT
DTSTART;TZID=America/Chicago:20201210T080000
DTEND;TZID=America/Chicago:20201210T170000
DTSTAMP:20260420T022503
CREATED:20201208T182802Z
LAST-MODIFIED:20201208T182802Z
UID:10966-1607587200-1607619600@neosoulcypher.com
SUMMARY:Today's Soul Birthdays - December 10
DESCRIPTION:Walter “Clyde” Orange – Co-lead singer & songwriter in the American funk\, soul & r&b band\, The Commodores. Commodores is an American funk/soul band\, which was at its peak in the late 1970s through the mid 1980s. \n \nJessica Cleaves – American singer and songwriter. \n \nPaul Hardcastle – British composer\, musician\, producer\, songwriter\, radio presenter and multi-instrumentalist.
URL:https://neosoulcypher.com/event/todays-soul-birthdays-december-10/
END:VEVENT
BEGIN:VEVENT
DTSTART;VALUE=DATE:20201209
DTEND;VALUE=DATE:20201210
DTSTAMP:20260420T022503
CREATED:20201207T123436Z
LAST-MODIFIED:20201207T123436Z
UID:10961-1607472000-1607558399@neosoulcypher.com
SUMMARY:Today's Soul Birthdays - December 9
DESCRIPTION:Donald Byrd – American jazz and rhythm & blues trumpeter and vocalist. A sideman for many other jazz musicians of his generation\, Byrd was known as one of the rare bebop jazz musicians who successfully explored funk and soul while remaining a jazz artist.
URL:https://neosoulcypher.com/event/todays-soul-birthdays-december-9/
END:VEVENT
BEGIN:VEVENT
DTSTART;VALUE=DATE:20201208
DTEND;VALUE=DATE:20201209
DTSTAMP:20260420T022503
CREATED:20201207T123307Z
LAST-MODIFIED:20201207T123502Z
UID:10955-1607385600-1607471999@neosoulcypher.com
SUMMARY:Today's Soul Birthdays - December 8
DESCRIPTION:Dan Hartman – American musician\, singer\, songwriter\, and record producer. \n \nJerry Butler – American soul singer-songwriter\, producer\, musician\, and retired politician. He is also noted as being the original lead singer of the R&B vocal group the Impressions\, as well as a 1991 Rock and Roll Hall of Fame inductee. \n \nJimmy Smith – American jazz musician whose albums often charted on Billboard magazine. He helped popularize the Hammond B-3 organ\, creating a link between jazz and 1960s soul music. \n \nSammy Davis\, Jr. – American singer\, dancer\, actor\, vaudevillian and comedian who has been called “the greatest entertainer ever to grace a stage in these United States.” \n \n 
URL:https://neosoulcypher.com/event/todays-soul-birthdays-december-8/
END:VEVENT
BEGIN:VEVENT
DTSTART;VALUE=DATE:20201207
DTEND;VALUE=DATE:20201208
DTSTAMP:20260420T022503
CREATED:20201207T122808Z
LAST-MODIFIED:20201207T122808Z
UID:10950-1607299200-1607385599@neosoulcypher.com
SUMMARY:Today's Soul Birthdays - December 7
DESCRIPTION:Andre Lewis – American musician known for his synthesizer recordings at Motown. As Andre Lewis he also contributed to Labelle’s Moon Shadow and Whitney Houston’s Just Whitney. \n \nBarbara Weathers – American R&B/soul singer\, and former lead singer of R&B vocal group\, Atlantic Starr. \n \nBrenda Jones – American R&B singer from vocal group The Jones Girls.
URL:https://neosoulcypher.com/event/todays-soul-birthdays-december-7/
END:VEVENT
BEGIN:VEVENT
DTSTART;VALUE=DATE:20201206
DTEND;VALUE=DATE:20201207
DTSTAMP:20260420T022503
CREATED:20201203T121517Z
LAST-MODIFIED:20201203T121517Z
UID:10942-1607212800-1607299199@neosoulcypher.com
SUMMARY:Today's Soul Birthdays - December 6
DESCRIPTION:Steve Alaimo –  American singer who was a teen idol in the early 1960s. \n \nWillie Hutch – American singer\, songwriter as well as a record producer and recording artist for the Motown record label during the 1970s and 1980s. \n \nFrankie Beverley – American singer\, musician\, songwriter\, and producer\, known primarily for his recordings with the soul and funk band Maze. \n \nLen Barry – American vocalist\, songwriter\, and record producer. \n \nDave Brubeck – American jazz pianist and composer\, considered one of the foremost exponents of cool jazz. \n \n  \n 
URL:https://neosoulcypher.com/event/todays-soul-birthdays-december-6/
END:VEVENT
BEGIN:VEVENT
DTSTART;VALUE=DATE:20201205
DTEND;VALUE=DATE:20201206
DTSTAMP:20260420T022503
CREATED:20201203T115951Z
LAST-MODIFIED:20201203T115951Z
UID:10938-1607126400-1607212799@neosoulcypher.com
SUMMARY:Today's Soul Birthdays - December 5
DESCRIPTION:Little Richard – American musician\, singer\, and songwriter. He was an influential figure in popular music and culture for seven decades. \n \nFrank Wilson – American songwriter\, singer and record producer for Motown Records.
URL:https://neosoulcypher.com/event/todays-soul-birthdays-december-5/
END:VEVENT
BEGIN:VEVENT
DTSTART;VALUE=DATE:20201204
DTEND;VALUE=DATE:20201205
DTSTAMP:20260420T022503
CREATED:20201203T115656Z
LAST-MODIFIED:20201203T115656Z
UID:10935-1607040000-1607126399@neosoulcypher.com
SUMMARY:Today's Soul Birthdays - December 4
DESCRIPTION:Cassandra Wilson – American jazz singer\, songwriter\, and producer from Jackson\, Mississippi. She has been described by critic Gary Giddins as “a singer blessed with an unmistakable timbre and attack [who has] expanded the playing field” by incorporating blues\, country\, and folk music into her work.
URL:https://neosoulcypher.com/event/todays-soul-birthdays-december-4/
END:VEVENT
BEGIN:VEVENT
DTSTART;VALUE=DATE:20201203
DTEND;VALUE=DATE:20201204
DTSTAMP:20260420T022503
CREATED:20201203T115518Z
LAST-MODIFIED:20201203T115518Z
UID:10932-1606953600-1607039999@neosoulcypher.com
SUMMARY:Today's Soul Birthdays - December 3
DESCRIPTION:Ronnie Laws – American jazz\, jazz fusion\, smooth jazz saxophonist. He is the younger brother of jazz flutist Hubert Laws\, jazz vocalist Eloise Laws and the older brother of Debra Laws.
URL:https://neosoulcypher.com/event/todays-soul-birthdays-december-3/
END:VEVENT
BEGIN:VEVENT
DTSTART;VALUE=DATE:20201130
DTEND;VALUE=DATE:20201201
DTSTAMP:20260420T022503
CREATED:20201130T133311Z
LAST-MODIFIED:20201130T133311Z
UID:10923-1606694400-1606780799@neosoulcypher.com
SUMMARY:Today's Soul Birthdays - November 30
DESCRIPTION:J.J. Barnes – American R&B singer and songwriter. He recorded several singles\, starting in 1960. \n \nDes’ree – English pop recording artist who rose to popularity during the 1990s. She is best known for her hits “Feel So High”\, “You Gotta Be”\, “Life”\, and “Kissing You”. \n \nJune Pointer – American singer\, best known as the youngest of the founding members of the vocal group the Pointer Sisters. \n \nLuther Ingram – American R&B and soul singer-songwriter. His most successful record\, ” I Don’t Want to Be Right”\, reached No. 1 on the Billboard R&B chart and No. 3 on the Hot 100 in 1972. \n \nShuggie Otis – American singer-songwriter\, recording artist\, and multi-instrumentalist. Otis’s composition “Strawberry Letter 23” topped the Billboard R&B chart and reached #5 of the Billboard Hot 100 chart in 1977. \n \n 
URL:https://neosoulcypher.com/event/todays-soul-birthdays-november-30/
END:VEVENT
BEGIN:VEVENT
DTSTART;VALUE=DATE:20201127
DTEND;VALUE=DATE:20201128
DTSTAMP:20260420T022503
CREATED:20201127T133802Z
LAST-MODIFIED:20201127T133802Z
UID:10919-1606435200-1606521599@neosoulcypher.com
SUMMARY:Today's Soul Birthdays - November 27
DESCRIPTION:Randy Brecker – American trumpeter\, flugelhornist\, and composer. His versatility has made him a popular studio musician who has recorded with acts in jazz\, rock\, and R&B. \n \nJimi Hendrix – American musician\, singer\, and songwriter. Although his mainstream career spanned only four years\, he is widely regarded as one of the most influential electric guitarists in the history of popular music\, and one of the most celebrated musicians of the 20th century.
URL:https://neosoulcypher.com/event/todays-soul-birthdays-november-27/
END:VEVENT
BEGIN:VEVENT
DTSTART;VALUE=DATE:20201126
DTEND;VALUE=DATE:20201127
DTSTAMP:20260420T022503
CREATED:20201126T154812Z
LAST-MODIFIED:20201126T154812Z
UID:10912-1606348800-1606435199@neosoulcypher.com
SUMMARY:Today's Soul Birthdays - November 26
DESCRIPTION:Garnet Mimms – American singer\, influential in soul music and rhythm and blues. \n \nTina Turner – American-born Swiss singer\, songwriter\, dancer\, and actress. Known as “the Queen of Rock ‘n’ Roll”\, she rose to prominence as part of the Ike & Tina Turner Revue before launching a successful career as a solo performer. \n \nSkip Scarborough – American songwriter\, best known for romantic ballads. \n \nJean Terrell – American R&B and jazz singer. She replaced Diana Ross as the lead singer of The Supremes in January 1970. \n \nBob Babbitt – Hungarian-American bassist\, most famous for his work as a member of Motown Records’ studio band\, the Funk Brothers\, from 1966 to 1972\, as well as his tenure as part of MFSB for Philadelphia International Records afterwards. \n \n  \n 
URL:https://neosoulcypher.com/event/todays-soul-birthdays-november-26/
END:VEVENT
BEGIN:VEVENT
DTSTART;VALUE=DATE:20201125
DTEND;VALUE=DATE:20201126
DTSTAMP:20260420T022503
CREATED:20201125T151921Z
LAST-MODIFIED:20201125T151921Z
UID:10907-1606262400-1606348799@neosoulcypher.com
SUMMARY:Today's Soul Birthdays - November 25
DESCRIPTION:Percy Sledge – American R&B\, soul and gospel singer. He is best known for the song “When a Man Loves a Woman”\, a No. 1 hit on both the Billboard Hot 100 and R&B singles charts in 1966. It was awarded a million-selling\, Gold-certified disc from the RIAA. \n \nJocelyn Brown – American R&B and dance singer. \n \nStacy Lattisaw –  American R&B singer from Washington\, D.C.\, United States.
URL:https://neosoulcypher.com/event/todays-soul-birthdays-november-25/
END:VEVENT
BEGIN:VEVENT
DTSTART;VALUE=DATE:20201124
DTEND;VALUE=DATE:20201125
DTSTAMP:20260420T022503
CREATED:20201124T152706Z
LAST-MODIFIED:20201124T152706Z
UID:10901-1606176000-1606262399@neosoulcypher.com
SUMMARY:Today's Soul Birthdays - November 24
DESCRIPTION:Richard Tee – American pianist\, studio musician\, singer and arranger\, who had several hundred studio credits and played on such notable hits as “In Your Eyes”\, “Slip Slidin’ Away”\, “Just the Two of Us”\, “I’ll Be Sweeter Tomorrow”\, “Crackerbox Palace”\, “Tell Her About It”\, and many others. \n \nDonald “Duck” Dunn – American bass guitarist\, session musician\, record producer\, and songwriter. \n \nWayne Jackson – American soul and R&B musician\, playing the trumpet in the Mar-Keys\, in the house band at Stax Records and later as one of The Memphis Horns\, described as “arguably the greatest soul horn section ever”. \n \nJuggy Murray Jones – American record label owner\, producer and singer-songwriter.
URL:https://neosoulcypher.com/event/todays-soul-birthdays-november-24/
END:VEVENT
END:VCALENDAR