BEGIN:VCALENDAR
VERSION:2.0
PRODID:-//Neo Soul Cypher - ECPv6.15.20//NONSGML v1.0//EN
CALSCALE:GREGORIAN
METHOD:PUBLISH
X-WR-CALNAME:Neo Soul Cypher
X-ORIGINAL-URL:https://neosoulcypher.com
X-WR-CALDESC:Events for Neo Soul Cypher
REFRESH-INTERVAL;VALUE=DURATION:PT1H
X-Robots-Tag:noindex
X-PUBLISHED-TTL:PT1H
BEGIN:VTIMEZONE
TZID:America/Chicago
BEGIN:DAYLIGHT
TZOFFSETFROM:-0600
TZOFFSETTO:-0500
TZNAME:CDT
DTSTART:20190310T080000
END:DAYLIGHT
BEGIN:STANDARD
TZOFFSETFROM:-0500
TZOFFSETTO:-0600
TZNAME:CST
DTSTART:20191103T070000
END:STANDARD
BEGIN:DAYLIGHT
TZOFFSETFROM:-0600
TZOFFSETTO:-0500
TZNAME:CDT
DTSTART:20200308T080000
END:DAYLIGHT
BEGIN:STANDARD
TZOFFSETFROM:-0500
TZOFFSETTO:-0600
TZNAME:CST
DTSTART:20201101T070000
END:STANDARD
BEGIN:DAYLIGHT
TZOFFSETFROM:-0600
TZOFFSETTO:-0500
TZNAME:CDT
DTSTART:20210314T080000
END:DAYLIGHT
BEGIN:STANDARD
TZOFFSETFROM:-0500
TZOFFSETTO:-0600
TZNAME:CST
DTSTART:20211107T070000
END:STANDARD
END:VTIMEZONE
BEGIN:VEVENT
DTSTART;VALUE=DATE:20201116
DTEND;VALUE=DATE:20201117
DTSTAMP:20260423T202808
CREATED:20201116T134217Z
LAST-MODIFIED:20201116T134217Z
UID:10865-1605484800-1605571199@neosoulcypher.com
SUMMARY:Today's Soul Birthdays - November 16
DESCRIPTION:Diana Krall – Canadian jazz pianist and singer\, known for her contralto vocals. She has sold more than 6 million albums in the US and over 15 million albums worldwide. \n \n“Blue” Lovett – Bass singer & songwriter who came to prominence as a member of the popular American R&B vocal group\, The Manhattans. The Manhattans are an American popular R&B vocal group. \n \nDick Griffey – American record producer and music promoter who founded SOLAR Records\, a RAS acronym for “Sound of Los Angeles Records”. \n \nLillian Lopez –  Lead singer for ’70s disco outfit\, Odyssey. \n \nW.C. Handy –  Composer and musician who referred to himself as the Father of the Blues.
URL:https://neosoulcypher.com/event/todays-soul-birthdays-november-16/
END:VEVENT
BEGIN:VEVENT
DTSTART;VALUE=DATE:20201114
DTEND;VALUE=DATE:20201115
DTSTAMP:20260423T202808
CREATED:20201114T133219Z
LAST-MODIFIED:20201114T133219Z
UID:10855-1605312000-1605398399@neosoulcypher.com
SUMMARY:Today's Soul Birthdays - November 14
DESCRIPTION:Alexander O’Neal – American R&B singer\, songwriter and arranger from Natchez\, Mississippi. In a music career spanning more than 40 years\, O’Neal is an accomplished R&B and soul singer. \n \nScherrie Payne – American singer. Payne is best known as the last lead singer of the R&B/Soul vocal group The Supremes from 1973 until 1977. Because of her powerful voice and petite stature\, Payne is sometimes referred to as “the little lady with the big voice.”
URL:https://neosoulcypher.com/event/todays-soul-birthdays-november-14/
END:VEVENT
BEGIN:VEVENT
DTSTART;VALUE=DATE:20201113
DTEND;VALUE=DATE:20201114
DTSTAMP:20260423T202808
CREATED:20201113T111953Z
LAST-MODIFIED:20201113T111953Z
UID:10850-1605225600-1605311999@neosoulcypher.com
SUMMARY:Today's Soul Birthdays - November 13
DESCRIPTION:Baby Washington – American soul music vocalist\, who had 16 rhythm and blues chart entries in 15 years\, most of them during the 1960s. \n \nIdris Muhammed – American jazz drummer who recorded with Ahmad Jamal\, Lou Donaldson\, Pharoah Sanders\, and Tete Montoliu. \n \nTimmy Thomas – American R&B singer\, keyboardist\, songwriter and record producer\, best known for the hit song\, “Why Can’t We Live Together”.
URL:https://neosoulcypher.com/event/todays-soul-birthdays-november-13/
END:VEVENT
BEGIN:VEVENT
DTSTART;VALUE=DATE:20201112
DTEND;VALUE=DATE:20201113
DTSTAMP:20260423T202808
CREATED:20201112T140407Z
LAST-MODIFIED:20201112T140407Z
UID:10843-1605139200-1605225599@neosoulcypher.com
SUMMARY:Today's Soul Birthdays - November 12
DESCRIPTION:Booker T. Jones – American multi-instrumentalist\, songwriter\, record producer and arranger\, best known as the frontman of the band Booker T. & the M.G.’s. \n \nErrol Brown – ritish-Jamaican singer and songwriter\, best known as the frontman of the soul and funk band Hot Chocolate. \n \nBob Crewe – American songwriter\, dancer\, singer\, manager\, and record producer. He was known for producing\, and co-writing with Bob Gaudio\, a string of Top 10 singles for the Four Seasons. \n \nTevin Campbell – American singer\, songwriter and actor.
URL:https://neosoulcypher.com/event/todays-soul-birthdays-november-12/
END:VEVENT
BEGIN:VEVENT
DTSTART;VALUE=DATE:20201111
DTEND;VALUE=DATE:20201112
DTSTAMP:20260423T202808
CREATED:20201111T115106Z
LAST-MODIFIED:20201111T115106Z
UID:10838-1605052800-1605139199@neosoulcypher.com
SUMMARY:Today's Soul Birthdays - November 11\, 2020
DESCRIPTION:Laverne Baker – American R&B singer who had several hit records on the pop chart in the 1950s and early 1960s. Her most successful records were “Tweedle Dee”\, “Jim Dandy”\, and “I Cried a Tear” \n \nErnestine Anderson – American jazz and blues singer. In a career spanning more than six decades\, she recorded over 30 albums. \n \nMose Allison – American jazz and blues pianist\, singer\, and songwriter. He became notable for playing a unique mix of blues and modern jazz\, both singing and playing piano.
URL:https://neosoulcypher.com/event/todays-soul-birthdays-november-11-2020/
END:VEVENT
BEGIN:VEVENT
DTSTART;VALUE=DATE:20201110
DTEND;VALUE=DATE:20201111
DTSTAMP:20260423T202808
CREATED:20201110T151917Z
LAST-MODIFIED:20201110T151917Z
UID:10831-1604966400-1605052799@neosoulcypher.com
SUMMARY:Today's Soul Birthdays - November 10
DESCRIPTION:Bobby Rush – American blues musician\, composer and singer. His style incorporates elements of blues\, rap and funk. \n \nHubert Laws – American flutist and saxophonist with a career spanning over 40 years in jazz\, classical\, and other music genres. \n \nSir Mack Rice – American songwriter and singer. His best-known composition and biggest hit as a solo performer was “Mustang Sally.” \n \nHouston Person – American jazz tenor saxophonist and record producer. Although he has performed in the hard bop and swing genres\, he is most experienced in and best known for his work in soul jazz. He received the Eubie Blake Jazz Award in 1982.
URL:https://neosoulcypher.com/event/todays-soul-birthdays-november-10/
END:VEVENT
BEGIN:VEVENT
DTSTART;VALUE=DATE:20201109
DTEND;VALUE=DATE:20201110
DTSTAMP:20260423T202808
CREATED:20201109T125415Z
LAST-MODIFIED:20201109T125415Z
UID:10824-1604880000-1604966399@neosoulcypher.com
SUMMARY:Today's Soul Birthdays - November 9
DESCRIPTION:Tommy Dorsey – American jazz trombonist\, composer\, conductor and bandleader of the big band era. \n \nDavid Ebo – American singer from Philadelphia\, Pennsylvania. In 1976\, Harold Melvin was looking for a lead singer for his group\, Harold Melvin & the Blue Notes after Teddy Pendergrass left\, eventually hiring Ebo to replace Teddy.
URL:https://neosoulcypher.com/event/todays-soul-birthdays-november-9/
END:VEVENT
BEGIN:VEVENT
DTSTART;TZID=America/Chicago:20201107T160000
DTEND;TZID=America/Chicago:20201107T180000
DTSTAMP:20260423T202808
CREATED:20201027T155354Z
LAST-MODIFIED:20201027T155354Z
UID:10778-1604764800-1604772000@neosoulcypher.com
SUMMARY:Kaytranada!!! Live from Societes Des Arts Technologiques
DESCRIPTION:Kaytranada will be streaming live on Moment House from the legendary venue Societes Des Arts Technologiques in Montreal. Performing tracks from BUBBA and more\, Kaytranada fans are in for a night that will keep them dancing from home and amazed at exclusive new content. \nhttps://www.momenthouse.com/kaytranada
URL:https://neosoulcypher.com/event/kaytranada-live-from-societes-des-arts-technologiques-2/
END:VEVENT
BEGIN:VEVENT
DTSTART;TZID=America/Chicago:20201106T220000
DTEND;TZID=America/Chicago:20201107T000000
DTSTAMP:20260423T202808
CREATED:20201027T154621Z
LAST-MODIFIED:20201027T154621Z
UID:10775-1604700000-1604707200@neosoulcypher.com
SUMMARY:Kaytranada!!!! Live from Societes Des Arts Technologiques
DESCRIPTION:Kaytranada will be streaming live on Moment House from the legendary venue Societes Des Arts Technologiques in Montreal. Performing tracks from BUBBA and more\, Kaytranada fans are in for a night that will keep them dancing from home and amazed at exclusive new content. \nhttps://www.momenthouse.com/kaytranada
URL:https://neosoulcypher.com/event/kaytranada-live-from-societes-des-arts-technologiques/
END:VEVENT
BEGIN:VEVENT
DTSTART;VALUE=DATE:20201106
DTEND;VALUE=DATE:20201107
DTSTAMP:20260423T202808
CREATED:20201106T152813Z
LAST-MODIFIED:20201106T152813Z
UID:10819-1604620800-1604707199@neosoulcypher.com
SUMMARY:Today's Soul Birthdays - November 6
DESCRIPTION:Arturo Sandoval – Cuban-American jazz trumpeter\, pianist\, and composer. While living in his native Cuba\, Sandoval was influenced by jazz musicians Charlie Parker\, Clifford Brown\, and Dizzy Gillespie. \n \nLani Hall – American singer\, lyricist\, author\, and the wife of Herb Alpert. From 1966 to 1971 she performed as lead vocalist for Sérgio Mendes & Brasil ’66. In 1972 she released her first solo album Sundown Lady\, with many more soon to follow. \n \nPebbles – American singer-songwriter\, businesswoman\, record producer and music executive. Reid is perhaps best known for her hit songs during the late 1980s and early 1990s such as “Girlfriend”\, “Mercedes Boy” and “Giving You the Benefit”.
URL:https://neosoulcypher.com/event/todays-soul-birthdays-november-6/
END:VEVENT
BEGIN:VEVENT
DTSTART;VALUE=DATE:20201105
DTEND;VALUE=DATE:20201106
DTSTAMP:20260423T202808
CREATED:20201105T121100Z
LAST-MODIFIED:20201105T121100Z
UID:10814-1604534400-1604620799@neosoulcypher.com
SUMMARY:Today's Soul Birthdays - November 5
DESCRIPTION:Ike Turner – American musician\, bandleader\, songwriter\, arranger\, talent scout\, and record producer. \n \nLoleatta Holloway – American singer\, mainly known for disco songs such as “Hit and Run” and “Love Sensation”. \n \nCharles Bradley – American singer. After years of obscurity and a part-time music career\, Bradley came to prominence in his early 50s.
URL:https://neosoulcypher.com/event/todays-soul-birthdays-november-5/
END:VEVENT
BEGIN:VEVENT
DTSTART;VALUE=DATE:20201104
DTEND;VALUE=DATE:20201105
DTSTAMP:20260423T202808
CREATED:20201104T120608Z
LAST-MODIFIED:20201104T120608Z
UID:10811-1604448000-1604534399@neosoulcypher.com
SUMMARY:Today's Soul Birthdays - November 4
DESCRIPTION:Jeff Lorber – American keyboardist\, composer\, and record producer.
URL:https://neosoulcypher.com/event/todays-soul-birthdays-november-4/
END:VEVENT
BEGIN:VEVENT
DTSTART;VALUE=DATE:20201103
DTEND;VALUE=DATE:20201104
DTSTAMP:20260423T202808
CREATED:20201103T123751Z
LAST-MODIFIED:20201103T123751Z
UID:10806-1604361600-1604447999@neosoulcypher.com
SUMMARY:Today's Soul Birthdays - November 3
DESCRIPTION:Joe Turner – American blues shouter from Kansas City\, Missouri. According to songwriter Doc Pomus\, “Rock and roll would have never happened without him.” \n \nClifford Curry – American beach music\, soul music\, and R&B singer. \n \nBilly Mitchell – American jazz tenor saxophonist.
URL:https://neosoulcypher.com/event/todays-soul-birthdays-november-3/
END:VEVENT
BEGIN:VEVENT
DTSTART;VALUE=DATE:20201102
DTEND;VALUE=DATE:20201103
DTSTAMP:20260423T202808
CREATED:20201102T144149Z
LAST-MODIFIED:20201102T144149Z
UID:10798-1604275200-1604361599@neosoulcypher.com
SUMMARY:Today's Soul Birthdays - November 2
DESCRIPTION:Earl Carroll – Lead vocalist of the doo-wop group The Cadillacs. The group’s biggest hit was “Speedoo”\, which with a minor spelling change became Carroll’s subsequent nickname. It was released in 1955. \n \nMaxine Nightingale – British R&B and soul music singer. She is best known for her hits in the 1970s\, with the million seller “Right Back Where We Started From”\, “Love Hit Me”\, and “Lead Me On”.
URL:https://neosoulcypher.com/event/todays-soul-birthdays-november-2/
END:VEVENT
BEGIN:VEVENT
DTSTART;VALUE=DATE:20201031
DTEND;VALUE=DATE:20201101
DTSTAMP:20260423T202808
CREATED:20201027T185143Z
LAST-MODIFIED:20201027T185143Z
UID:10781-1604102400-1604188799@neosoulcypher.com
SUMMARY:Today's Soul Birthdays - October 31
DESCRIPTION:Benard Edwards – American bass player\, singer\, songwriter and record producer\, known primarily for his work in disco music with guitarist Nile Rodgers\, with whom he co-founded Chic. \n \nDooley Siverspoon – American gospel singer. \n \nYvonne Wright – American singer and songwriter. \n \nIllnois Jacquet – American jazz tenor saxophonist\, best remembered for his solo on “Flying Home”\, critically recognized as the first R&B saxophone solo. \n 
URL:https://neosoulcypher.com/event/todays-soul-birthdays-october-31/
END:VEVENT
BEGIN:VEVENT
DTSTART;VALUE=DATE:20201030
DTEND;VALUE=DATE:20201031
DTSTAMP:20260423T202808
CREATED:20201026T174526Z
LAST-MODIFIED:20201026T174526Z
UID:10767-1604016000-1604102399@neosoulcypher.com
SUMMARY:Today's Soul Birthdays - October 30
DESCRIPTION:Otis Williams – American bariton singer\, songwriter and a record producer. Williams is the founder and last surviving original member of the Motown vocal group The Temptations\, a group in which he continues to perform; he also owns the rights to the Temptations name. \n \nClifford Brown – American jazz trumpeter. \n \nDaryl Coley – American Christian singer. At 14\, Coley was a member of the ensemble “Helen Stephens and the Voices of Christ”.
URL:https://neosoulcypher.com/event/todays-soul-birthdays-october-30/
END:VEVENT
BEGIN:VEVENT
DTSTART;VALUE=DATE:20201029
DTEND;VALUE=DATE:20201030
DTSTAMP:20260423T202808
CREATED:20201026T173046Z
LAST-MODIFIED:20201026T173046Z
UID:10761-1603929600-1604015999@neosoulcypher.com
SUMMARY:Today's Soul Birthdays - October 29
DESCRIPTION:Eugene “Bird” Daughtrey – American singer from vocal group “The Intruders”. \n \nKing Errisson – American musician. \n \nMelba Moore – American singer\, actress\, voice actress\, and entertainer. \n \nRandy Jackson – American singer-songwriter\, musician\, and dancer. Randy is best known as a former member of his family band the Jacksons.
URL:https://neosoulcypher.com/event/todays-soul-birthdays-october-29/
END:VEVENT
BEGIN:VEVENT
DTSTART;VALUE=DATE:20201028
DTEND;VALUE=DATE:20201029
DTSTAMP:20260423T202808
CREATED:20201026T161909Z
LAST-MODIFIED:20201026T161909Z
UID:10753-1603843200-1603929599@neosoulcypher.com
SUMMARY:Today's Soul Birthdays - October 28
DESCRIPTION:Cleo Laine (English jazz and pop singer and an actress\, known for her scat singing and for her vocal range. Though her natural range is that of a contralto\, she is able to produce a G above high C\, giving her an overall compass of well over three octaves.)
URL:https://neosoulcypher.com/event/todays-soul-birthdays-october-28/
END:VEVENT
BEGIN:VEVENT
DTSTART;VALUE=DATE:20201027
DTEND;VALUE=DATE:20201028
DTSTAMP:20260423T202808
CREATED:20201026T161711Z
LAST-MODIFIED:20201026T161711Z
UID:10750-1603756800-1603843199@neosoulcypher.com
SUMMARY:Today's Soul Birthdays - October 27
DESCRIPTION:Weldon Irvine\, Jr. (American composer\, playwright\, poet\, pianist\, organist\, and keyboardist.)
URL:https://neosoulcypher.com/event/todays-soul-birthdays-october-27/
END:VEVENT
BEGIN:VEVENT
DTSTART;VALUE=DATE:20201026
DTEND;VALUE=DATE:20201027
DTSTAMP:20260423T202808
CREATED:20201026T155133Z
LAST-MODIFIED:20201026T155133Z
UID:10746-1603670400-1603756799@neosoulcypher.com
SUMMARY:Today's Soul Birthdays - October 26
DESCRIPTION:Bootsy Collins (American musician\, singer and songwriter.) \n \nEddie Henderson (American jazz trumpet and flugelhorn player.)
URL:https://neosoulcypher.com/event/todays-soul-birthdays-october-26/
END:VEVENT
BEGIN:VEVENT
DTSTART;VALUE=DATE:20201023
DTEND;VALUE=DATE:20201024
DTSTAMP:20260423T202808
CREATED:20201023T121942Z
LAST-MODIFIED:20201023T121942Z
UID:10739-1603411200-1603497599@neosoulcypher.com
SUMMARY:Today's Soul Birthdays - October 23
DESCRIPTION:Charlie Foxx ( American singer and guitarist from rhythm and blues and soul duo group Inez and Charlie Foxx) \n \nDianne Reeves (American jazz singer.) \n \nBelita Woods (lead singer of the late 1970s R&B group Brainstorm.) \n \nEllie Greenwich (American pop music singer\, songwriter\, and record producer.) \n \nErnie Watts (American jazz and rhythm and blues saxophonist who plays soprano\, alto\, and tenor saxophone.) \n \n 
URL:https://neosoulcypher.com/event/todays-soul-birthdays-october-23/
END:VEVENT
BEGIN:VEVENT
DTSTART;VALUE=DATE:20201022
DTEND;VALUE=DATE:20201023
DTSTAMP:20260423T202808
CREATED:20201022T151849Z
LAST-MODIFIED:20201022T151849Z
UID:10734-1603324800-1603411199@neosoulcypher.com
SUMMARY:Today's Soul Birthdays - October 22
DESCRIPTION:Bobby Fuller (American rock singer\, songwriter\, and guitarist best known for “Let Her Dance” and “I Fought the Law”\, recorded with his group The Bobby Fuller Four.) \n \nCurtis Womack (American musician and was the brother of legendary singer Bobby Womack. He was a member of the singing group “The Womack Brothers”)
URL:https://neosoulcypher.com/event/todays-soul-birthdays-october-22/
END:VEVENT
BEGIN:VEVENT
DTSTART;VALUE=DATE:20201021
DTEND;VALUE=DATE:20201022
DTSTAMP:20260423T202808
CREATED:20201021T113032Z
LAST-MODIFIED:20201021T113032Z
UID:10722-1603238400-1603324799@neosoulcypher.com
SUMMARY:Today's Soul Birthdays - October 21
DESCRIPTION:Steve Cropper (American guitarist\, songwriter and record producer.) \n \nDizzy Gillespie (American jazz trumpeter\, bandleader\, composer\, educator and singer. He was a trumpet virtuoso and improviser\, building on the virtuoso style of Roy Eldridge but adding layers of harmonic and rhythmic complexity previously unheard in jazz.)
URL:https://neosoulcypher.com/event/todays-soul-birthdays-october-21/
END:VEVENT
BEGIN:VEVENT
DTSTART;VALUE=DATE:20201020
DTEND;VALUE=DATE:20201021
DTSTAMP:20260423T202808
CREATED:20201020T113934Z
LAST-MODIFIED:20201020T113934Z
UID:10717-1603152000-1603238399@neosoulcypher.com
SUMMARY:Today's Soul Birthdays - October 20
DESCRIPTION:Eddie Harris (American jazz musician\, best known for playing tenor saxophone and for introducing the electrically amplified saxophone. He was also fluent on the electric piano and organ.) \n \nC.P. Spencer (American musician\, singer\, songwriter and record producer for the Motown label in the late 1960s and early 1970s.) \n \nJelly Roll Morton (American ragtime and jazz pianist\, bandleader\, and composer. Morton was jazz’s first arranger\, proving that a genre rooted in improvisation could retain its essential characteristics when notated.)
URL:https://neosoulcypher.com/event/todays-soul-birthdays-october-20/
END:VEVENT
BEGIN:VEVENT
DTSTART;VALUE=DATE:20201019
DTEND;VALUE=DATE:20201020
DTSTAMP:20260423T202808
CREATED:20201019T120117Z
LAST-MODIFIED:20201019T120117Z
UID:10710-1603065600-1603151999@neosoulcypher.com
SUMMARY:Today's Soul Birthdays - October 19
DESCRIPTION:Wilbert Hart (American R&B singer and a pioneering co-founding member of the legendary Delfonics.) \n \nGeorge McCrae (American soul and disco singer\, most famous for his 1974 hit “Rock Your Baby”.) \n \nJennifer Holiday (American singer and actress. She started her career on Broadway in musicals such as Dreamgirls\, Your Arms Too Short to Box with God and later became a successful recording artist.) \n \nSharon Redd ( American singer from New York City. She was the half sister of R&B singer Penny Ford.)
URL:https://neosoulcypher.com/event/todays-soul-birthdays-october-19/
END:VEVENT
BEGIN:VEVENT
DTSTART;VALUE=DATE:20201017
DTEND;VALUE=DATE:20201018
DTSTAMP:20260423T202808
CREATED:20201017T135058Z
LAST-MODIFIED:20201017T135058Z
UID:10707-1602892800-1602979199@neosoulcypher.com
SUMMARY:Today's Soul Birthday - October 17
DESCRIPTION:Wyclef Jean  (Haitian rapper\, musician and actor. At the age of nine\, Jean immigrated to the United States with his family. He first achieved fame as a member of the New Jersey hip hop group the Fugees. Jean has won three Grammy Awards for his musical work.)
URL:https://neosoulcypher.com/event/todays-soul-birthday-october-17/
END:VEVENT
BEGIN:VEVENT
DTSTART;VALUE=DATE:20201016
DTEND;VALUE=DATE:20201017
DTSTAMP:20260423T202808
CREATED:20201016T113718Z
LAST-MODIFIED:20201016T113718Z
UID:10702-1602806400-1602892799@neosoulcypher.com
SUMMARY:Today's Soul Birthdays - October 16
DESCRIPTION:Terry Huff (Washington\, D.C.-based singer whose biggest hit was the ache-filled “The Lonely One\,” a substantial hit along the East Coast. ) \n \nSugar Pie Desanto (American rhythm-and-blues singer\, whose career in music flourished in the 1950s and 1960s.)
URL:https://neosoulcypher.com/event/todays-soul-birthdays-october-16/
END:VEVENT
BEGIN:VEVENT
DTSTART;VALUE=DATE:20201015
DTEND;VALUE=DATE:20201016
DTSTAMP:20260423T202808
CREATED:20201015T141821Z
LAST-MODIFIED:20201015T141821Z
UID:10697-1602720000-1602806399@neosoulcypher.com
SUMMARY:Today's Soul Birthdays - October 15
DESCRIPTION:Marv Johnson (American R&B and soul singer\, notable for performing on the first record issued by Tamla Records\, which later became Motown.) \n \nTiti Jackson (American singer-songwriter and guitarist. Jackson was an original member of The Jackson 5) \n \nNellie Lutcher (American R&B and jazz singer and pianist\, who gained prominence in the late 1940s and early 1950s.)
URL:https://neosoulcypher.com/event/todays-soul-birthdays-october-15/
END:VEVENT
BEGIN:VEVENT
DTSTART;VALUE=DATE:20201014
DTEND;VALUE=DATE:20201015
DTSTAMP:20260423T202808
CREATED:20201014T102725Z
LAST-MODIFIED:20201014T102725Z
UID:10689-1602633600-1602719999@neosoulcypher.com
SUMMARY:Today's Soul Birthdays - October 14
DESCRIPTION:Karyn White ( American singer who was popular during the late 1980s and early 1990s.) \n \nRobert Parker (American R&B singer and musician\, best known for his 1966 hit\, “Barefootin'”.) \n \nNorman Harris (American guitarist\, producer\, music arranger and songwriter\, closely associated with Philly soul. He was a founding member of MFSB\, the Philadelphia studio band\, and one of the Baker-Harris-Young record production trio.)
URL:https://neosoulcypher.com/event/todays-soul-birthdays-october-14/
END:VEVENT
BEGIN:VEVENT
DTSTART;VALUE=DATE:20201013
DTEND;VALUE=DATE:20201014
DTSTAMP:20260423T202808
CREATED:20201013T111636Z
LAST-MODIFIED:20201013T111636Z
UID:10677-1602547200-1602633599@neosoulcypher.com
SUMMARY:Today's Soul Birthdays - October 13
DESCRIPTION:Dorothy Moore ( American blues\, gospel\, and R&B singer best known for her 1976 hit song\, “Misty Blue”.) \n \nPharoah Sanders (American jazz saxophonist. A member of John Coltrane’s groups of the mid-1960s\, Sanders is known for his overblowing\, harmonic\, and multiphonic techniques on the saxophone\, as well as his use of “sheets of sound”.) \n \nShirley Caesar (American Gospel music singer\, songwriter and recording artist whose career has spanned seven decades. ) \n \nArt Tatum (American jazz pianist who is widely regarded as one of the greatest in his field.) \n \nRay Brown (American jazz double bassist known for extensive work with Oscar Peterson and Ella Fitzgerald.)
URL:https://neosoulcypher.com/event/todays-soul-birthdays-october-13/
END:VEVENT
END:VCALENDAR