BEGIN:VCALENDAR
VERSION:2.0
PRODID:-//Neo Soul Cypher - ECPv6.15.20//NONSGML v1.0//EN
CALSCALE:GREGORIAN
METHOD:PUBLISH
X-WR-CALNAME:Neo Soul Cypher
X-ORIGINAL-URL:https://neosoulcypher.com
X-WR-CALDESC:Events for Neo Soul Cypher
REFRESH-INTERVAL;VALUE=DURATION:PT1H
X-Robots-Tag:noindex
X-PUBLISHED-TTL:PT1H
BEGIN:VTIMEZONE
TZID:America/Chicago
BEGIN:DAYLIGHT
TZOFFSETFROM:-0600
TZOFFSETTO:-0500
TZNAME:CDT
DTSTART:20190310T080000
END:DAYLIGHT
BEGIN:STANDARD
TZOFFSETFROM:-0500
TZOFFSETTO:-0600
TZNAME:CST
DTSTART:20191103T070000
END:STANDARD
BEGIN:DAYLIGHT
TZOFFSETFROM:-0600
TZOFFSETTO:-0500
TZNAME:CDT
DTSTART:20200308T080000
END:DAYLIGHT
BEGIN:STANDARD
TZOFFSETFROM:-0500
TZOFFSETTO:-0600
TZNAME:CST
DTSTART:20201101T070000
END:STANDARD
BEGIN:DAYLIGHT
TZOFFSETFROM:-0600
TZOFFSETTO:-0500
TZNAME:CDT
DTSTART:20210314T080000
END:DAYLIGHT
BEGIN:STANDARD
TZOFFSETFROM:-0500
TZOFFSETTO:-0600
TZNAME:CST
DTSTART:20211107T070000
END:STANDARD
END:VTIMEZONE
BEGIN:VEVENT
DTSTART;VALUE=DATE:20201002
DTEND;VALUE=DATE:20201003
DTSTAMP:20260424T004733
CREATED:20201002T112852Z
LAST-MODIFIED:20201002T113013Z
UID:10638-1601596800-1601683199@neosoulcypher.com
SUMMARY:Today's Soul Birthdays - October 2
DESCRIPTION:Freddie Jackson (American Grammy-nominated singer.) \n \nVanessa Bell Armstrong (Gospel singer who released her debut album Peace Be Still in 1983.)
URL:https://neosoulcypher.com/event/todays-soul-birthdays-october-2/
END:VEVENT
BEGIN:VEVENT
DTSTART;VALUE=DATE:20201001
DTEND;VALUE=DATE:20201002
DTSTAMP:20260424T004733
CREATED:20200930T104431Z
LAST-MODIFIED:20200930T104431Z
UID:10632-1601510400-1601596799@neosoulcypher.com
SUMMARY:Today's Soul Birthdays - October 1
DESCRIPTION:Donny Hathaway (American soul singer\, keyboardist\, songwriter\, and arranger. Hathaway has been described as a “soul legend” by Rolling Stone.) \n \nHoward Hewett (Grammy Award-winning American singer–songwriter. Hewett rose to fame as the lead vocalist of the Grammy winning R&B/soul vocal group Shalamar.) \n \nHerb Fame (American singer from vocal duo\, Peaches & Herb)
URL:https://neosoulcypher.com/event/todays-soul-birthdays-october-1/
END:VEVENT
BEGIN:VEVENT
DTSTART;VALUE=DATE:20200930
DTEND;VALUE=DATE:20201001
DTSTAMP:20260424T004733
CREATED:20200929T113411Z
LAST-MODIFIED:20200929T113411Z
UID:10619-1601424000-1601510399@neosoulcypher.com
SUMMARY:Today's Soul Birthdays - September 30
DESCRIPTION:Marilyn McCoo (American singer\, actress\, and television presenter\, who is best known for being the lead female vocalist in the group The 5th Dimension\, as well as hosting the 1980s music countdown series Solid Gold.) \n \nCissy Houston (American soul and gospel singer. After a successful career singing backup for such artists as Roy Hamilton\, Dionne Warwick\, Elvis Presley and Aretha Franklin\, Houston embarked on a solo career\, winning two Grammy Awards for her work.) \n \nBasia (Polish singer-songwriter and recording artist noted for her Latin-inspired jazz-pop music.) \n \nMoses Dillard (American musician who had a dual career in music for more than 20 years\, leading his own bands\, and as a guitarist working out of Muscle Shoals.) \n \n  \nFrankie Lymon (American rock and roll/rhythm and blues singer and songwriter\, best known as the boy soprano lead singer of the New York City-based early rock and roll group The Teenagers.) \n \nPatrice Rushen (American jazz pianist and R&B singer. She is also a composer\, record producer\, multi-instrumentalist\, songwriter\, and music director.) \n \nZ.Z. Hill (American blues singer best known for his recordings in the 1970s and early 1980s\, including his 1982 album for Malaco Records\, Down Home\, which stayed on the Billboard soul album chart for nearly two years.)
URL:https://neosoulcypher.com/event/todays-soul-birthdays-september-30/
END:VEVENT
BEGIN:VEVENT
DTSTART;VALUE=DATE:20200929
DTEND;VALUE=DATE:20200930
DTSTAMP:20260424T004733
CREATED:20200928T134059Z
LAST-MODIFIED:20200928T134059Z
UID:10609-1601337600-1601423999@neosoulcypher.com
SUMMARY:Today's Soul Birthdays - September 29
DESCRIPTION:Jean Luc Ponty ( French jazz violinist and composer.) \n \nTommy Tate (American soul singer and songwriter\, who had three hits on the R&B chart in the 1970s.)
URL:https://neosoulcypher.com/event/todays-soul-birthdays-september-29/
END:VEVENT
BEGIN:VEVENT
DTSTART;VALUE=DATE:20200928
DTEND;VALUE=DATE:20200929
DTSTAMP:20260424T004733
CREATED:20200928T133737Z
LAST-MODIFIED:20200928T133737Z
UID:10602-1601251200-1601337599@neosoulcypher.com
SUMMARY:Today's Soul Birthdays - September 28
DESCRIPTION:Ben E. King (American soul and R&B singer and record producer.) \n \nKeni Burke (American singer\, songwriter\, record producer\, and multi-instrumentalist who began his career with four siblings in the 1970s band the Five Stairsteps.) \n \nSean Levert (American singer-songwriter and actor. Levert is best known as a member of the R&B vocal group LeVert. Levert was the son of O’Jays lead singer Eddie Levert and younger brother of singer Gerald Levert.) \n \nElbridge Bryant (American tenor\, and one of the founding members of Motown singing group The Temptations.) \n \nKoko Taylor (American singer whose style encompassed Chicago blues\, electric blues\, rhythm and blues and soul blues.)
URL:https://neosoulcypher.com/event/todays-soul-birthdays-september-28/
END:VEVENT
BEGIN:VEVENT
DTSTART;VALUE=DATE:20200927
DTEND;VALUE=DATE:20200928
DTSTAMP:20260424T004733
CREATED:20200925T123503Z
LAST-MODIFIED:20200925T123503Z
UID:10582-1601164800-1601251199@neosoulcypher.com
SUMMARY:Today's Soul Birthdays - September 27
DESCRIPTION:Don Cornelius (American television show host and producer who was best known as the creator of the nationally syndicated dance and music show Soul Train\, which he hosted from 1971 until 1993.) \n \nAllan Barnes ( American jazz musician) \n \nKeith Barrow (American Disco/Soul singer and songwriter born and raised in Chicago.)
URL:https://neosoulcypher.com/event/todays-soul-birthdays-september-27/
END:VEVENT
BEGIN:VEVENT
DTSTART;VALUE=DATE:20200926
DTEND;VALUE=DATE:20200927
DTSTAMP:20260424T004733
CREATED:20200925T112738Z
LAST-MODIFIED:20200925T112738Z
UID:10578-1601078400-1601164799@neosoulcypher.com
SUMMARY:Today's Soul Birthdays - September 26
DESCRIPTION:Gary Bartz (American jazz saxophonist.) \n \nLittle Benny (American trumpet player\, who was a part of the Washington D.C.-based go-go band Rare Essence.)
URL:https://neosoulcypher.com/event/todays-soul-birthdays-september-26/
END:VEVENT
BEGIN:VEVENT
DTSTART;VALUE=DATE:20200925
DTEND;VALUE=DATE:20200926
DTSTAMP:20260424T004733
CREATED:20200925T111657Z
LAST-MODIFIED:20200925T111657Z
UID:10573-1600992000-1601078399@neosoulcypher.com
SUMMARY:Today's Soul Birthdays - September 25
DESCRIPTION:Sam Rivers (American jazz musician and composer. He performed on soprano and tenor saxophones\, bass clarinet\, flute\, harmonica and piano. Active in jazz since the early 1950s\, he earned wider attention during the mid-1960s spread of free jazz.) \n \nCecil Womack (American singer\, songwriter and record producer. He was one of the musical Womack brothers\, and had success both as a songwriter and recording artist\, notably with his wife Linda as Womack & Womack.) \n \nDee Dee Warwick (American soul singer. Born in Newark\, New Jersey\, she was the sister of Dionne Warwick\, the niece of Cissy Houston\, and the first cousin of Whitney Houston.)
URL:https://neosoulcypher.com/event/todays-soul-birthdays-september-25/
END:VEVENT
BEGIN:VEVENT
DTSTART;VALUE=DATE:20200924
DTEND;VALUE=DATE:20200925
DTSTAMP:20260424T004733
CREATED:20200922T102317Z
LAST-MODIFIED:20200922T102317Z
UID:10570-1600905600-1600991999@neosoulcypher.com
SUMMARY:Today's Soul Birthdays - September 24
DESCRIPTION:Wayne Henderson (American soul jazz and hard bop trombonist and record producer. In 1961\, he co-founded the soul jazz/hard bop group The Jazz Crusaders.)
URL:https://neosoulcypher.com/event/todays-soul-birthdays-september-24/
END:VEVENT
BEGIN:VEVENT
DTSTART;VALUE=DATE:20200923
DTEND;VALUE=DATE:20200924
DTSTAMP:20260424T004733
CREATED:20200921T161439Z
LAST-MODIFIED:20200921T161439Z
UID:10565-1600819200-1600905599@neosoulcypher.com
SUMMARY:Today's Soul Birthdays - September 23
DESCRIPTION:John Coltrane (American jazz saxophonist and composer. Working in the bebop and hard bop idioms early in his career\, Coltrane helped pioneer the use of modes and was at the forefront of free jazz.) \n \nRay Charles (American singer\, songwriter\, pianist\, and composer. Among friends and fellow musicians he preferred being called “Brother Ray.” He was often referred to as “The Genius.” Charles was blinded during childhood due to glaucoma.) \n \nWallace and Walter Scott (Vocalist and founding member of American r&b and soul group\, The Whispers.)
URL:https://neosoulcypher.com/event/todays-soul-birthdays-september-23/
END:VEVENT
BEGIN:VEVENT
DTSTART;VALUE=DATE:20200922
DTEND;VALUE=DATE:20200923
DTSTAMP:20260424T004733
CREATED:20200921T154643Z
LAST-MODIFIED:20200921T154643Z
UID:10561-1600732800-1600819199@neosoulcypher.com
SUMMARY:Today's Soul Birthdays - September 22
DESCRIPTION:Shirley Jones (American R&B singer. She was a member of The Jones Girls before starting a solo career. ) \n \nMarlena Shaw (American singer. Shaw began her singing career in the 1960s and is still singing today. Her music has often been sampled in hip hop music\, and used in television commercials.)
URL:https://neosoulcypher.com/event/todays-soul-birthdays-september-22/
END:VEVENT
BEGIN:VEVENT
DTSTART;VALUE=DATE:20200921
DTEND;VALUE=DATE:20200922
DTSTAMP:20260424T004733
CREATED:20200918T115345Z
LAST-MODIFIED:20200918T115345Z
UID:10553-1600646400-1600732799@neosoulcypher.com
SUMMARY:Today's Soul Birthday - September 21
DESCRIPTION:G.C. Cameron (American soul and R&B singer)
URL:https://neosoulcypher.com/event/todays-soul-birthday-september-21/
END:VEVENT
BEGIN:VEVENT
DTSTART;VALUE=DATE:20200920
DTEND;VALUE=DATE:20200921
DTSTAMP:20260424T004733
CREATED:20200918T113800Z
LAST-MODIFIED:20200918T113800Z
UID:10547-1600560000-1600646399@neosoulcypher.com
SUMMARY:Today's Soul Birthdays - September 20
DESCRIPTION:Deah Dame (Lead singer of R&B group duo Damian Dame) \n \nEric Gale (American blues-rock guitarist) \n \nChico Hamilton (American jazz drummer and bandleader) \n \nEddie Bo (American singer and pianist)
URL:https://neosoulcypher.com/event/todays-soul-birthdays-september-20/
END:VEVENT
BEGIN:VEVENT
DTSTART;VALUE=DATE:20200919
DTEND;VALUE=DATE:20200920
DTSTAMP:20260424T004733
CREATED:20200918T111009Z
LAST-MODIFIED:20200918T111009Z
UID:10538-1600473600-1600559999@neosoulcypher.com
SUMMARY:Today's Soul Birthdays - September 19
DESCRIPTION:Billy Ward (American singer with Billy Ward and His Dominoes) \n \nLloyd Parks (Jamaican reggae vocalist and bass player who has recorded and performed as a solo artist) \n \nBrook Benton (American singer and songwriter who was popular with rock and roll\, rhythm and blues\, and pop) \n \nNile Rogers (American guitarist\, singer-songwriter\, record producer\, arranger and composer) \n \nFreda Payne (American singer and actress) \n \nCarl Davis (American record producer and music executive) \n \nBill Medley (American singer and songwriter)
URL:https://neosoulcypher.com/event/todays-soul-birthdays-september-19/
END:VEVENT
BEGIN:VEVENT
DTSTART;VALUE=DATE:20200918
DTEND;VALUE=DATE:20200919
DTSTAMP:20260424T004733
CREATED:20200915T125232Z
LAST-MODIFIED:20200915T125232Z
UID:10533-1600387200-1600473599@neosoulcypher.com
SUMMARY:Today's Soul Birthdays - September 18
DESCRIPTION:Michael Franks (American singer and songwriter\, considered a leader of the quiet storm movement)
URL:https://neosoulcypher.com/event/todays-soul-birthdays-september-18/
END:VEVENT
BEGIN:VEVENT
DTSTART;VALUE=DATE:20200917
DTEND;VALUE=DATE:20200918
DTSTAMP:20260424T004733
CREATED:20200915T125026Z
LAST-MODIFIED:20200915T125026Z
UID:10530-1600300800-1600387199@neosoulcypher.com
SUMMARY:Today's Soul Birthday - September 17
DESCRIPTION:Jack McDuff (American jazz organist and organ trio bandleader who was most prominent during the hard bop and soul jazz era of the 1960s\, often performing with an organ trio)
URL:https://neosoulcypher.com/event/todays-soul-birthday-september-17/
END:VEVENT
BEGIN:VEVENT
DTSTART;VALUE=DATE:20200916
DTEND;VALUE=DATE:20200917
DTSTAMP:20260424T004733
CREATED:20200915T124846Z
LAST-MODIFIED:20200915T124846Z
UID:10523-1600214400-1600300799@neosoulcypher.com
SUMMARY:Today's Soul Birthdays - September 16
DESCRIPTION:Earl Klugh (American acoustic guitarist and composer) \n \nIzora Armstead (an American singer-songwriter) \n \nRodney Franklin (American jazz pianist\, composer\, and record producer) \n \nB.B. King (American singer-songwriter\, guitarist\, and record producer. King introduced a sophisticated style of soloing based on fluid string bending and shimmering vibrato that influenced many later blues electric guitar players) \n \nJon Hendricks (American jazz lyricist and singer)
URL:https://neosoulcypher.com/event/todays-soul-birthdays-september-16/
END:VEVENT
BEGIN:VEVENT
DTSTART;VALUE=DATE:20200915
DTEND;VALUE=DATE:20200916
DTSTAMP:20260424T004733
CREATED:20200912T203135Z
LAST-MODIFIED:20200912T203135Z
UID:10519-1600128000-1600214399@neosoulcypher.com
SUMMARY:Today's Soul Birthdays - September 15
DESCRIPTION:George Howard (American smooth jazz saxophonist.) \n \nSylvia Moy (American songwriter and record producer\, formerly associated with the Motown Records group. )
URL:https://neosoulcypher.com/event/todays-soul-birthdays-september-15/
END:VEVENT
BEGIN:VEVENT
DTSTART;VALUE=DATE:20200914
DTEND;VALUE=DATE:20200915
DTSTAMP:20260424T004733
CREATED:20200911T110114Z
LAST-MODIFIED:20200911T110114Z
UID:10515-1600041600-1600127999@neosoulcypher.com
SUMMARY:Today's Soul Birthdays - September 14
DESCRIPTION:Oliver Lake (American jazz saxophonist\, flutist\, composer\, poet\, and visual artist.) \n \nAmy Winehouse ( English singer and songwriter. She was known for her deep\, expressive contralto vocals and her eclectic mix of musical genres\, including soul\, rhythm and blues and jazz)
URL:https://neosoulcypher.com/event/todays-soul-birthdays-september-14/
END:VEVENT
BEGIN:VEVENT
DTSTART;VALUE=DATE:20200913
DTEND;VALUE=DATE:20200914
DTSTAMP:20260424T004733
CREATED:20200911T105540Z
LAST-MODIFIED:20200911T105540Z
UID:10509-1599955200-1600041599@neosoulcypher.com
SUMMARY:Today's Soul Birthdays - September 13
DESCRIPTION:Damian Dame (American R&B group) \n \nLewie Steinberg (American musician best known as the original bass guitar player for the soul music group Booker T. & the M.G.’s.) \n \nGene Page (American conductor\, composer\, arranger and record producer) \n \nJoni Sledge (American singer–songwriter\, actress and producer. Sledge was best known as a founding member of the American family vocal group Sister Sledge)
URL:https://neosoulcypher.com/event/todays-soul-birthdays-september-13/
END:VEVENT
BEGIN:VEVENT
DTSTART;VALUE=DATE:20200912
DTEND;VALUE=DATE:20200913
DTSTAMP:20260424T004733
CREATED:20200911T104830Z
LAST-MODIFIED:20200911T104830Z
UID:10503-1599868800-1599955199@neosoulcypher.com
SUMMARY:Today's Soul Birthdays - September 12
DESCRIPTION:Barry White (American singer-songwriter\, musician\, record producer and composer) \n \nGloria Jones (American singer and songwriter) \n \nAli Ollie Woodsen (American R&B singer\, musician\, songwriter\, keyboardist\, drummer\, and occasional actor best known for his twelve years with The Temptations) \n \nJudy Clay (American soul and gospel singer)
URL:https://neosoulcypher.com/event/todays-soul-birthdays-september-12/
END:VEVENT
BEGIN:VEVENT
DTSTART;VALUE=DATE:20200911
DTEND;VALUE=DATE:20200912
DTSTAMP:20260424T004733
CREATED:20200909T150335Z
LAST-MODIFIED:20200909T150335Z
UID:10498-1599782400-1599868799@neosoulcypher.com
SUMMARY:Today's Soul Birthdays - September 11
DESCRIPTION:Harry Connick Jr. (American singer\, pianist\, composer\, actor\, and television host.) \n \nEstelle Stewart Axton (American record executive and co-founder of Stax Records\, along with her brother Jim Stewart) \n \nHiram Bullock (American jazz funk and jazz fusion guitarist)
URL:https://neosoulcypher.com/event/todays-soul-birthdays-september-11/
END:VEVENT
BEGIN:VEVENT
DTSTART;VALUE=DATE:20200910
DTEND;VALUE=DATE:20200911
DTSTAMP:20260424T004733
CREATED:20200908T133829Z
LAST-MODIFIED:20200908T133829Z
UID:10494-1599696000-1599782399@neosoulcypher.com
SUMMARY:Today's Soul Birthdays - September 10
DESCRIPTION:Roy Ayers (American funk\, soul\, and jazz composer\, vibraphone player\, and music producer) \n \nJose Feliciano (Puerto Rican musician\, singer and composer)
URL:https://neosoulcypher.com/event/todays-soul-birthdays-september-10/
END:VEVENT
BEGIN:VEVENT
DTSTART;VALUE=DATE:20200909
DTEND;VALUE=DATE:20200910
DTSTAMP:20260424T004733
CREATED:20200908T133508Z
LAST-MODIFIED:20200908T133508Z
UID:10487-1599609600-1599695999@neosoulcypher.com
SUMMARY:Today's Soul Birthdays - September 9
DESCRIPTION:Billy Preston (American musician whose work encompassed R&B\, rock\, soul\, funk\, and gospel) \n \nInez Foxx (American rhythm and blues singer from duo Inez and Charlie Foxx) \n \nDee Dee Sharp Gamble (American R&B singer) \n \nElvin Ray Jones (American jazz drummer of the post-bop era) \n \nOtis Redding (American singer\, songwriter\, record producer\, arranger\, and talent scout. He is considered one of the greatest singers in the history of American popular music and a seminal artist in soul music and rhythm and blues) \nOTIS REDDING
URL:https://neosoulcypher.com/event/todays-soul-birthdays-september-9/
END:VEVENT
BEGIN:VEVENT
DTSTART;VALUE=DATE:20200908
DTEND;VALUE=DATE:20200909
DTSTAMP:20260424T004733
CREATED:20200907T143634Z
LAST-MODIFIED:20200907T143654Z
UID:10482-1599523200-1599609599@neosoulcypher.com
SUMMARY:Today's Soul Birthdays - September 8
DESCRIPTION:David Lewis (Singer from R&B group Atlantic Starr) \n \nEarl Nelson (American soul singer and songwriter)
URL:https://neosoulcypher.com/event/10482/
END:VEVENT
BEGIN:VEVENT
DTSTART;VALUE=DATE:20200907
DTEND;VALUE=DATE:20200908
DTSTAMP:20260424T004733
CREATED:20200907T143226Z
LAST-MODIFIED:20200907T143226Z
UID:10475-1599436800-1599523199@neosoulcypher.com
SUMMARY:Today's Soul Birthdays - September 7
DESCRIPTION:Gloria Gaynor (American singer\, best known for the disco hit “I Will Survive” ) \n \nLatimore (American blues and R&B singer\, songwriter and pianist) \n \nBeloyd (Songwriter and musician for soul R&B group Earth\, Wind & Fire) \n \nLittle Milton (American blues singer and guitarist\, best known for his number-one R&B single “We’re Gonna Make It”.) \n \nSonny Rollins (American jazz tenor saxophonist who is widely recognized as one of the most important and influential jazz musicians)
URL:https://neosoulcypher.com/event/todays-soul-birthdays-september-7/
END:VEVENT
BEGIN:VEVENT
DTSTART;VALUE=DATE:20200906
DTEND;VALUE=DATE:20200907
DTSTAMP:20260424T004733
CREATED:20200903T115752Z
LAST-MODIFIED:20200903T115752Z
UID:10468-1599350400-1599436799@neosoulcypher.com
SUMMARY:Today's Soul Birthdays - September 6
DESCRIPTION:CeCe Peniston (American singer and former beauty queen)
URL:https://neosoulcypher.com/event/todays-soul-birthdays-september-6/
END:VEVENT
BEGIN:VEVENT
DTSTART;VALUE=DATE:20200905
DTEND;VALUE=DATE:20200906
DTSTAMP:20260424T004733
CREATED:20200903T115516Z
LAST-MODIFIED:20200903T115516Z
UID:10463-1599264000-1599350399@neosoulcypher.com
SUMMARY:Today's Soul Birthdays - September 5
DESCRIPTION:Terry Ellis (American singer–songwriter and actress. Ellis is best known as a founding member of the R&B/Pop vocal group En Vogue which formed in 1989) \n \nBuddy Miles (American rock drummer\, vocalist\, composer\, and producer.) \n 
URL:https://neosoulcypher.com/event/todays-soul-birthdays-september-5/
END:VEVENT
BEGIN:VEVENT
DTSTART;VALUE=DATE:20200904
DTEND;VALUE=DATE:20200905
DTSTAMP:20260424T004733
CREATED:20200903T115013Z
LAST-MODIFIED:20200903T115013Z
UID:10457-1599177600-1599263999@neosoulcypher.com
SUMMARY:Today's Soul Birthdays - September 4
DESCRIPTION:Beyonce Knowles-Carter (American singer\, songwriter\, record producer\, dancer\, actress and filmmaker) \n \nLawrence Hilton Jacobs (American actor and singer) \n \nRonald Lapraed (Singer and musician from R&B soul group The Commodores) \n \nJerry Ragavoy ( American songwriter and record producer)
URL:https://neosoulcypher.com/event/todays-soul-birthdays-september-4/
END:VEVENT
BEGIN:VEVENT
DTSTART;VALUE=DATE:20200903
DTEND;VALUE=DATE:20200904
DTSTAMP:20260424T004733
CREATED:20200831T181712Z
LAST-MODIFIED:20200831T181745Z
UID:10453-1599091200-1599177599@neosoulcypher.com
SUMMARY:Today's Soul Birthdays - September 3
DESCRIPTION:Memphis Slim (American blues pianist\, singer\, and composer) \nPIANIST MEMPHIS SLIM (1915-1988\, ALIAS JOHN LEN AND LATER PETER CHATMAN) HERE C. 1945 © AGIP/AD
URL:https://neosoulcypher.com/event/today-soul-birthdays-september-3/
END:VEVENT
END:VCALENDAR