BEGIN:VCALENDAR
VERSION:2.0
PRODID:-//Neo Soul Cypher - ECPv6.15.20//NONSGML v1.0//EN
CALSCALE:GREGORIAN
METHOD:PUBLISH
X-WR-CALNAME:Neo Soul Cypher
X-ORIGINAL-URL:https://neosoulcypher.com
X-WR-CALDESC:Events for Neo Soul Cypher
REFRESH-INTERVAL;VALUE=DURATION:PT1H
X-Robots-Tag:noindex
X-PUBLISHED-TTL:PT1H
BEGIN:VTIMEZONE
TZID:America/Chicago
BEGIN:DAYLIGHT
TZOFFSETFROM:-0600
TZOFFSETTO:-0500
TZNAME:CDT
DTSTART:20190310T080000
END:DAYLIGHT
BEGIN:STANDARD
TZOFFSETFROM:-0500
TZOFFSETTO:-0600
TZNAME:CST
DTSTART:20191103T070000
END:STANDARD
BEGIN:DAYLIGHT
TZOFFSETFROM:-0600
TZOFFSETTO:-0500
TZNAME:CDT
DTSTART:20200308T080000
END:DAYLIGHT
BEGIN:STANDARD
TZOFFSETFROM:-0500
TZOFFSETTO:-0600
TZNAME:CST
DTSTART:20201101T070000
END:STANDARD
BEGIN:DAYLIGHT
TZOFFSETFROM:-0600
TZOFFSETTO:-0500
TZNAME:CDT
DTSTART:20210314T080000
END:DAYLIGHT
BEGIN:STANDARD
TZOFFSETFROM:-0500
TZOFFSETTO:-0600
TZNAME:CST
DTSTART:20211107T070000
END:STANDARD
END:VTIMEZONE
BEGIN:VEVENT
DTSTART;VALUE=DATE:20200827
DTEND;VALUE=DATE:20200828
DTSTAMP:20260424T051958
CREATED:20200825T124216Z
LAST-MODIFIED:20200825T124216Z
UID:10405-1598486400-1598572799@neosoulcypher.com
SUMMARY:Today's Soul Birthdays - August 27
DESCRIPTION:Lester Young (American jazz tenor saxophonist and occasional clarinetist) \n \nYolanda Adams (American gospel singer\, record producer\, actress\, and radio host of her own nationally syndicated morning gospel show)
URL:https://neosoulcypher.com/event/todays-soul-birthdays-august-27/
END:VEVENT
BEGIN:VEVENT
DTSTART;VALUE=DATE:20200826
DTEND;VALUE=DATE:20200827
DTSTAMP:20260424T051958
CREATED:20200825T123552Z
LAST-MODIFIED:20200825T123552Z
UID:10401-1598400000-1598486399@neosoulcypher.com
SUMMARY:Today's Soul Birthdays - August 26
DESCRIPTION:Valerie Simpson (American songwriter and singer) \n \nBranford Marsalis (American saxophonist\, composer\, and bandleader) \nBranford Marsalis at Monterey Jazz Festival CA 9/92 .© Brian McMillen .www.brianmcmillenphotography.com
URL:https://neosoulcypher.com/event/todays-soul-birthdays-august-26/
END:VEVENT
BEGIN:VEVENT
DTSTART;VALUE=DATE:20200825
DTEND;VALUE=DATE:20200826
DTSTAMP:20260424T051958
CREATED:20200824T135412Z
LAST-MODIFIED:20200824T135412Z
UID:10385-1598313600-1598399999@neosoulcypher.com
SUMMARY:Today's Soul Birthdays - August 25
DESCRIPTION:Walter Williams (Member of American R&B and soul group The O’Jays) \n \nWayne Shorter (American jazz saxophonist and composer)
URL:https://neosoulcypher.com/event/todays-soul-birthdays-august-25/
END:VEVENT
BEGIN:VEVENT
DTSTART;VALUE=DATE:20200824
DTEND;VALUE=DATE:20200825
DTSTAMP:20260424T051958
CREATED:20200821T195330Z
LAST-MODIFIED:20200821T195330Z
UID:10373-1598227200-1598313599@neosoulcypher.com
SUMMARY:Today's Soul Birthdays - August 24
DESCRIPTION:Jeffrey Daniel (American dancer\, singer-songwriter and choreographer\, most notable for being a founding member of the R&B vocal group Shalamar) \n \nDee Harvey (American R&B singer)
URL:https://neosoulcypher.com/event/todays-soul-birthdays-august-24/
END:VEVENT
BEGIN:VEVENT
DTSTART;VALUE=DATE:20200823
DTEND;VALUE=DATE:20200824
DTSTAMP:20260424T051958
CREATED:20200821T194608Z
LAST-MODIFIED:20200821T194608Z
UID:10370-1598140800-1598227199@neosoulcypher.com
SUMMARY:Today's Soul Birthday - August 23
DESCRIPTION:Pebbles (American singer-songwriter\, businesswoman\, record producer and music executive.) \n \n\n\n\n\n\n 
URL:https://neosoulcypher.com/event/todays-soul-birthday-august-23/
END:VEVENT
BEGIN:VEVENT
DTSTART;VALUE=DATE:20200822
DTEND;VALUE=DATE:20200823
DTSTAMP:20260424T051958
CREATED:20200821T194311Z
LAST-MODIFIED:20200821T194311Z
UID:10364-1598054400-1598140799@neosoulcypher.com
SUMMARY:Today's Soul Birthdays - August 22
DESCRIPTION:Roscoe Shelton (American electric blues and R&B singer) \n \nEdward Roy Patten (R&B/soul singer\, best known as a member of Gladys Knight & the Pips) \n \nChuck Brown (American guitarist\, bandleader and singer) \n \nJames DeBarge (American R&B/soul singer from the group DeBarge) \n \n 
URL:https://neosoulcypher.com/event/todays-soul-birthdays-august-22/
END:VEVENT
BEGIN:VEVENT
DTSTART;VALUE=DATE:20200821
DTEND;VALUE=DATE:20200822
DTSTAMP:20260424T051958
CREATED:20200819T140826Z
LAST-MODIFIED:20200819T140826Z
UID:10360-1597968000-1598054399@neosoulcypher.com
SUMMARY:Today's Soul Birthdays - August 21
DESCRIPTION:Count Basie (American jazz pianist\, organist\, bandleader and composer) \n \nKim Sledge (American singer from vocal group Sister Sledge)
URL:https://neosoulcypher.com/event/todays-soul-birthdays-august-21/
END:VEVENT
BEGIN:VEVENT
DTSTART;VALUE=DATE:20200820
DTEND;VALUE=DATE:20200821
DTSTAMP:20260424T051958
CREATED:20200819T133846Z
LAST-MODIFIED:20200819T133846Z
UID:10355-1597881600-1597967999@neosoulcypher.com
SUMMARY:Today's Soul Birthdays - August 20
DESCRIPTION:David Lasley (American recording artist\, singer and songwriter) \n \nC.L. Blast (American soul singer) \n \nIsaac Haynes (American singer\, songwriter\, actor and producer)
URL:https://neosoulcypher.com/event/todays-soul-birthdays-august-19/
END:VEVENT
BEGIN:VEVENT
DTSTART;VALUE=DATE:20200819
DTEND;VALUE=DATE:20200820
DTSTAMP:20260424T051958
CREATED:20200817T212523Z
LAST-MODIFIED:20200817T212523Z
UID:10350-1597795200-1597881599@neosoulcypher.com
SUMMARY:Today's Soul Birthday\, August 19
DESCRIPTION:Johnny Nash (American reggae and pop music\, singer/songwriter)
URL:https://neosoulcypher.com/event/todays-soul-birthday-august-19/
END:VEVENT
BEGIN:VEVENT
DTSTART;VALUE=DATE:20200818
DTEND;VALUE=DATE:20200819
DTSTAMP:20260424T051958
CREATED:20200817T190238Z
LAST-MODIFIED:20200817T190238Z
UID:10342-1597708800-1597795199@neosoulcypher.com
SUMMARY:Today's Soul Birthdays\, August 18
DESCRIPTION:Maxine Brown (American soul and R&B singer) \n \nSarah Dash (American singer and actress) \n \nEdwin Hawkins (American gospel musician\, pianist\, choir master\, composer and arranger) \n \nErnie Isley (A member of the American musical ensemble The Isley Brothers) \n \nSonny Til (American lead singer of The Orioles) \n \nBarbara Harris (American singer)
URL:https://neosoulcypher.com/event/todays-soul-birthdays-august-18/
END:VEVENT
BEGIN:VEVENT
DTSTART;VALUE=DATE:20200817
DTEND;VALUE=DATE:20200818
DTSTAMP:20260424T051958
CREATED:20200813T235140Z
LAST-MODIFIED:20200813T235140Z
UID:10327-1597622400-1597708799@neosoulcypher.com
SUMMARY:Today's Soul Birthday\, August 17
DESCRIPTION:Maysa Leak (American jazz singer)
URL:https://neosoulcypher.com/event/todays-soul-birthday-august-17/
END:VEVENT
BEGIN:VEVENT
DTSTART;VALUE=DATE:20200816
DTEND;VALUE=DATE:20200817
DTSTAMP:20260424T051958
CREATED:20200813T234636Z
LAST-MODIFIED:20200813T234636Z
UID:10324-1597536000-1597622399@neosoulcypher.com
SUMMARY:Today's Soul Birthday\, August 16
DESCRIPTION:James “J.T.” Taylor (American singer\, actor and lead singer of the R&B/funk band Kool & the Gang)
URL:https://neosoulcypher.com/event/todays-soul-birthday-august-16/
END:VEVENT
BEGIN:VEVENT
DTSTART;VALUE=DATE:20200815
DTEND;VALUE=DATE:20200816
DTSTAMP:20260424T051958
CREATED:20200813T234150Z
LAST-MODIFIED:20200813T234150Z
UID:10315-1597449600-1597535999@neosoulcypher.com
SUMMARY:Today's Soul Birthdays\, August 15
DESCRIPTION:Billy Griffin (American singer and songwriter) \n \nStix Hooper (American drummer and founding member of The Crusaders) \n \nBobby Byrd (American R&B soul singer/songwriter\, bandleader\, talent scout\, record producer\, and musician) \n \nBobby Caldwell (American singer and songwriter) \n \nFrederick Knight (American R&B singer\, songwriter and record producer) \n \nOscar Peterson (Canadian jazz pianist\, virtuoso and composer) \n \nLittle Beaver (American R&B guitarist\, singer and songwriter)
URL:https://neosoulcypher.com/event/todays-soul-birthdays-august-15/
END:VEVENT
BEGIN:VEVENT
DTSTART;VALUE=DATE:20200814
DTEND;VALUE=DATE:20200815
DTSTAMP:20260424T051958
CREATED:20200813T224334Z
LAST-MODIFIED:20200813T224442Z
UID:10310-1597363200-1597449599@neosoulcypher.com
SUMMARY:Today's Soul Birthdays\, August 14
DESCRIPTION:Larry Graham (American Bassist) \n \nHoward Tate (American soul singer and songwriter) \n \nSharon Bryant (Lead singer of the R&B group Atlantic Starr)
URL:https://neosoulcypher.com/event/todays-soul-birthdays-august-14/
END:VEVENT
BEGIN:VEVENT
DTSTART;TZID=America/Chicago:20200813T080000
DTEND;TZID=America/Chicago:20200813T170000
DTSTAMP:20260424T051958
CREATED:20200811T213838Z
LAST-MODIFIED:20200811T213838Z
UID:10301-1597305600-1597338000@neosoulcypher.com
SUMMARY:Today's Soul Birthday\, August 13
DESCRIPTION:James “Jimmy” McCracklin (American pianist\, vocalist and songwriter)
URL:https://neosoulcypher.com/event/todays-soul-birthday-august-13/
END:VEVENT
BEGIN:VEVENT
DTSTART;VALUE=DATE:20200812
DTEND;VALUE=DATE:20200813
DTSTAMP:20260424T051958
CREATED:20200811T213056Z
LAST-MODIFIED:20200811T213056Z
UID:10295-1597190400-1597276799@neosoulcypher.com
SUMMARY:Today's Soul Birthdays\, August 12
DESCRIPTION:Percy Mayfield (American Rhythm-and-Blues Singer) \n \nPat Metheny (American Jazz Guitarist)
URL:https://neosoulcypher.com/event/todays-soul-birthday/
END:VEVENT
BEGIN:VEVENT
DTSTART;TZID=America/Chicago:20200701T120000
DTEND;TZID=America/Chicago:20200701T150000
DTSTAMP:20260424T051958
CREATED:20200607T034324Z
LAST-MODIFIED:20200607T034324Z
UID:9715-1593604800-1593615600@neosoulcypher.com
SUMMARY:Neo Soul Cypher Virtual Party
DESCRIPTION:Join the dopest DJs from all around! Enjoy live entertainment from the comfort of your home
URL:https://neosoulcypher.com/event/neo-soul-cypher-virtual-party/
LOCATION:TX\, United States
ATTACH;FMTTYPE=image/png:https://neosoulcypher.com/wp-content/uploads/e_badu_nex2thel.png
END:VEVENT
END:VCALENDAR